BEGIN:VCALENDAR
VERSION:2.0
PRODID:-//Octubre Centre de Cultura Contemporània - ECPv5.1.6//NONSGML v1.0//EN
CALSCALE:GREGORIAN
METHOD:PUBLISH
X-WR-CALNAME:Octubre Centre de Cultura Contemporània
X-ORIGINAL-URL:https://octubre.cat
X-WR-CALDESC:Events for Octubre Centre de Cultura Contemporània
BEGIN:VTIMEZONE
TZID:Europe/Andorra
BEGIN:DAYLIGHT
TZOFFSETFROM:+0100
TZOFFSETTO:+0200
TZNAME:CEST
DTSTART:20110327T010000
END:DAYLIGHT
BEGIN:STANDARD
TZOFFSETFROM:+0200
TZOFFSETTO:+0100
TZNAME:CET
DTSTART:20111030T010000
END:STANDARD
END:VTIMEZONE
BEGIN:VEVENT
DTSTART;TZID=Europe/Andorra:20111124T193000
DTEND;TZID=Europe/Andorra:20111124T193000
DTSTAMP:20260421T162144
CREATED:20200729T165632Z
LAST-MODIFIED:20200730T042909Z
UID:9295-1322163000-1322163000@octubre.cat
SUMMARY:Vicent Usó i Silvestre Vilaplana
DESCRIPTION:Dijous 24 de novembre a les 19.30h: Vicent Usó i Silvestre Vilaplana  \n  \n  \n\nVicent Usó i Mezquita (Vila-real\, 1963). Tot i que ha conreat el periodisme o el guionatge\, és com a narrador que se sent més còmode. Entre les novel·les que ha publicat destaquen La mirada de Nicodemus\, La taverna del Cau de la Lluna\, L’herència del vent del sud\, Crònica de la devastació o Les ales enceses. Ha obtingut premis literaris com el Fiter i Rossell 2001 al Principat d’Andorra o l’Andròmina de narrativa dins els premis Octubre i va quedar\, en l’edició de 2004\, finalista del premi Sant Jordi de novel·la. Així mateix\, obres seues han merescut el premi de la Crítica dels Escriptors Valencians i el premi de la Crítica de l’Institut Interuniversitari de Filologia Valenciana.  Silvestre Vilaplana i Barnés\, nascut a Alcoi el 1969\, llicenciat en Filologia Catalana per la Universitat d’Alacant i en l’actualitat professor de secundària a l’institut La Foia d’Ibi. Ha conreat diversos gèneres\, especialment la poesia i la novel·la. De la primera destaquen els poemaris La senda de les hores (Premi 25 d’abril\, 1998)\, Aigües de clepsidra (Premi Paco Mollà\, 1998)\, Calendari de silencis (Premi Nacional de Poesia Miguel Hernández\, 1999)\, Deserts (Premi Josep Maria Ribelles\, 2004)\, Els colors del vent (Premi Carme Guasch\, 2005)\, Partitures perdudes (Premi de poesia Festa d’Elx 2006) o Bagatge de tenebres (Premi ciutat de Torrent 2007). En narrativa destaquen les novel·les La mirada d’Al-Azraq (Premi Narrativa Jove\, 1998)\, Els dimonis de Pandora (finalista Premi Bancaixa\, 1999)\, Les urpes del diable (2001)\, i La frontera negra (2007) en literatura adreçada als joves\, i Les cendres del cavaller (Premi ciutat d’Alzira\, 2003)\, que narra la biografia de Joanot Martorell\, l’autor del Tirant lo Blanc i L’anell del pescador (2005) en la literatura per a adults.  En col·laboració amb l’AELC Entrada lliure
URL:https://octubre.cat/activitat/vicent-uso-i-silvestre-vilaplana/
LOCATION:No definit
CATEGORIES:Escriptors al terrat
ATTACH;FMTTYPE=image/jpeg:https://octubre.cat/www/wp-content/uploads/2020/07/activitat1528.jpg
END:VEVENT
END:VCALENDAR