BEGIN:VCALENDAR
VERSION:2.0
PRODID:-//Octubre Centre de Cultura Contemporània - ECPv5.1.6//NONSGML v1.0//EN
CALSCALE:GREGORIAN
METHOD:PUBLISH
X-WR-CALNAME:Octubre Centre de Cultura Contemporània
X-ORIGINAL-URL:https://octubre.cat
X-WR-CALDESC:Events for Octubre Centre de Cultura Contemporània
BEGIN:VTIMEZONE
TZID:Europe/Andorra
BEGIN:DAYLIGHT
TZOFFSETFROM:+0100
TZOFFSETTO:+0200
TZNAME:CEST
DTSTART:20230326T010000
END:DAYLIGHT
BEGIN:STANDARD
TZOFFSETFROM:+0200
TZOFFSETTO:+0100
TZNAME:CET
DTSTART:20231029T010000
END:STANDARD
END:VTIMEZONE
BEGIN:VEVENT
DTSTART;TZID=Europe/Andorra:20231220T163000
DTEND;TZID=Europe/Andorra:20231220T210000
DTSTAMP:20260422T025633
CREATED:20231205T121811Z
LAST-MODIFIED:20250710T100326Z
UID:20696-1703089800-1703106000@octubre.cat
SUMMARY:VI Jornades de Professionalització AVVAC
DESCRIPTION:Són moments d’emergència per a repensar i defensar moltes de les pràctiques\, processos\, programes i institucions que estan sent amenaçades\, censurades i els seus projectes cancel·lats. També volem reivindicar la competència de molts dels professionals que en aquests dies han estat cessats\, sense causes específiques i sovint improcedents dels seus llocs de treball. Però el més flagrant és la impunitat i el menyspreu cap al diàleg i la consulta de certes decisions amb el sector professional associat i l’acadèmic. \n  \n16.30h a l’aula 1: Taula redona “Incerteses i amenaces en les arts visuals” \nAVVAC\, que anualment convoca als seus associats i al públic en general a unes Jornades de professionalització per abordar les temàtiques adients a les especificitats del sector\, ha reconsiderat enguany aquesta situació com un marc on compartir amb la resta d’associacions de les Arts Visuals aquestes problemàtiques per tenir una veu comuna i així seguir defensant i exigint el respecte al que s’ha construït des de l’autonomia i llibertat de programes. \nParticiparan representants de:\n—AVVAC (Artistes Visuals de València\, Alacant i Castelló)\n—AVCA (Associació Valenciana de Crítics)\n—ANIAV (Associació Nacional d’Investigadors d’Arts Visuals)\n—MAV (Mujeres en las Artes Visuales – delegació València)\n—AVPD (Associació Valenciana de Professors de Dibuix) \n  \n \n  \n19.00h al hall: IV Reconeixements AVVAC \nLliurament del reconeixement a José Luis Pérez Pont pel seu treball al capdavant del Consorci de Museus de la Generalitat Valenciana. Pel seu compromís en aprofundir en la professionalització d’un sector i fer-ho des de les Bones Pràctiques i amb col·laboració amb les diverses associacions del sector.\nActe presentat per Graham Bell Tornado. Entrada lliure fins a completar l’aforament. \n—\nOrganitzat per AVVAC (Artistes Visuals de València\, Alacant i Castelló) amb la col·laboració de l’Octubre CCC
URL:https://octubre.cat/activitat/vi-jornades-de-professionalitzacio-avvac/
LOCATION:Espais diversos
CATEGORIES:Conferències i congressos
ATTACH;FMTTYPE=image/png:https://octubre.cat/www/wp-content/uploads/2023/12/CARTELL-jornades-2023-AVVAC-.png
END:VEVENT
END:VCALENDAR