BEGIN:VCALENDAR
VERSION:2.0
PRODID:-//Octubre Centre de Cultura Contemporània - ECPv5.1.6//NONSGML v1.0//EN
CALSCALE:GREGORIAN
METHOD:PUBLISH
X-WR-CALNAME:Octubre Centre de Cultura Contemporània
X-ORIGINAL-URL:https://octubre.cat
X-WR-CALDESC:Events for Octubre Centre de Cultura Contemporània
BEGIN:VTIMEZONE
TZID:Europe/Andorra
BEGIN:DAYLIGHT
TZOFFSETFROM:+0100
TZOFFSETTO:+0200
TZNAME:CEST
DTSTART:20150329T010000
END:DAYLIGHT
BEGIN:STANDARD
TZOFFSETFROM:+0200
TZOFFSETTO:+0100
TZNAME:CET
DTSTART:20151025T010000
END:STANDARD
END:VTIMEZONE
BEGIN:VEVENT
DTSTART;TZID=Europe/Andorra:20151219T200000
DTEND;TZID=Europe/Andorra:20151219T200000
DTSTAMP:20260421T001239
CREATED:20200729T171318Z
LAST-MODIFIED:20200730T041536Z
UID:10322-1450555200-1450555200@octubre.cat
SUMMARY:Versonautes
DESCRIPTION:Dijous 19 de novembre a les 20.00h. Actuació inclosa dins del cicle de música Barcelona Escenari 2015 i de la 3a Plaça del Llibre. Entrada lliure.  \n  \n  \n\n Presenten El banquet de les paraules (poesia musicada)  Versonautes és un projecte de música i poesia pilotat per dos navegants\, Roqui Albero (trompetista i rapsoda) i Ana Sanhauja (pianista) que van a la deriva deliberadament posant rumb cap a un univers sonor de mots\, melodies\, ritmes i contrapunts imprevisibles amb un estil únic i fresc que emociona i diverteix a l’audiència més diversa. Es tracta d’El banquet de les paraules\, un viatge per la poesia de V. A. Estellés\, M. Hernández\, J.V. Foix i F. G. Lorca\, entre d’altres\, amanida amb músiques que van des del swing i el blues fins a ritmes cubans i sud-americans\, com ara el tango\, el danzón o la zamba.  Entrada lliure fins completar l’aforament.   — Barcelona Escenari 2015 és un cicle musical organitzat per l’Octubre CCC amb el patrocini de l’Institut de Cultura de Barcelona Programació artística: Francesc Burgos (lacasacalba.org) Col·labora: Espai Octubre Concerts
URL:https://octubre.cat/activitat/versonautes/
CATEGORIES:Barcelona Escenari 2015 (música)
ATTACH;FMTTYPE=image/jpeg:https://octubre.cat/www/wp-content/uploads/2020/07/activitat2404.jpg
END:VEVENT
END:VCALENDAR