BEGIN:VCALENDAR
VERSION:2.0
PRODID:-//Octubre Centre de Cultura Contemporània - ECPv5.1.6//NONSGML v1.0//EN
CALSCALE:GREGORIAN
METHOD:PUBLISH
X-WR-CALNAME:Octubre Centre de Cultura Contemporània
X-ORIGINAL-URL:https://octubre.cat
X-WR-CALDESC:Events for Octubre Centre de Cultura Contemporània
BEGIN:VTIMEZONE
TZID:Europe/Andorra
BEGIN:DAYLIGHT
TZOFFSETFROM:+0100
TZOFFSETTO:+0200
TZNAME:CEST
DTSTART:20240331T010000
END:DAYLIGHT
BEGIN:STANDARD
TZOFFSETFROM:+0200
TZOFFSETTO:+0100
TZNAME:CET
DTSTART:20241027T010000
END:STANDARD
END:VTIMEZONE
BEGIN:VEVENT
DTSTART;TZID=Europe/Andorra:20240323T120000
DTEND;TZID=Europe/Andorra:20240323T120000
DTSTAMP:20260420T182110
CREATED:20240225T164159Z
LAST-MODIFIED:20250713T075440Z
UID:21002-1711195200-1711195200@octubre.cat
SUMMARY:Vermut negre al terrat amb Xavier Aliaga i Silvestre Vilaplana
DESCRIPTION:A propòsit de la publicació dels llibres Això no és un western de Xavier Aliaga i Àngels de la mort de Silvestre Vilaplana (crims.cat).\nModera la trobada l’escriptora Núria Cadenes. \n  \n \n  \nAixò no és un western\, de Xavier Aliaga. \nAquesta història comença amb el cínic inspector Feliu Oyono i la seva companya Marga Pitarch sentint la llepada de la mort en un erm\, a punt de ser enterrats en vida. El paisatge remet als relats fronterers\, amb els herois esperant la irrupció salvadora del Setè de Cavalleria. Però que els codis mestissos no us enganyin\, perquè això no és un western: els policies han acabat allí investigant la mort d’una jove\, filla d’un empresari rus arrelat a la Marina. Un assassinat salvatge que ens endinsa en una sòrdida teranyina de màfies\, negocis tèrbols\, fanatisme\, ideologies totalitàries i homes que no estimaven les dones. Una història alhora de serveis secrets amb derivades en el Kremlin i el rerefons d’una guerra que se suposava curta i que esdevé una llarga i interminable carnisseria. \n  \n \n  \nÀngels de la mort\, de Silvestre Vilaplana. \nLa mort sembla haver-se ensenyorit dels carrers de la ciutat: els cadàvers dels implicats en un vídeo que mostra la violació d’una menor comencen a aparèixer\, un rere l’altre\, just en el moment en què un assassí en sèrie\, presumptament inspirat per Déu\, es disposa a executar una missió tan macabra com letal. Així que el periodista Roger Casafont i l’expolicia Araceli Lavila\, malgrat estar malalta i jubilada\, es veuran immersos en una onada de crims que posaran a prova la seva resistència.
URL:https://octubre.cat/activitat/vermut-negre-al-terrat-amb-xavier-aliaga-i-silvestre-vilaplana/
LOCATION:Terrat
CATEGORIES:Literatura
ATTACH;FMTTYPE=image/jpeg:https://octubre.cat/www/wp-content/uploads/2024/02/trobada-negra.jpg
END:VEVENT
END:VCALENDAR