BEGIN:VCALENDAR
VERSION:2.0
PRODID:-//Octubre Centre de Cultura Contemporània - ECPv5.1.6//NONSGML v1.0//EN
CALSCALE:GREGORIAN
METHOD:PUBLISH
X-WR-CALNAME:Octubre Centre de Cultura Contemporània
X-ORIGINAL-URL:https://octubre.cat
X-WR-CALDESC:Events for Octubre Centre de Cultura Contemporània
BEGIN:VTIMEZONE
TZID:Europe/Andorra
BEGIN:DAYLIGHT
TZOFFSETFROM:+0100
TZOFFSETTO:+0200
TZNAME:CEST
DTSTART:20160327T010000
END:DAYLIGHT
BEGIN:STANDARD
TZOFFSETFROM:+0200
TZOFFSETTO:+0100
TZNAME:CET
DTSTART:20161030T010000
END:STANDARD
END:VTIMEZONE
BEGIN:VEVENT
DTSTART;TZID=Europe/Andorra:20160121T200000
DTEND;TZID=Europe/Andorra:20160121T200000
DTSTAMP:20260422T143652
CREATED:20200729T171549Z
LAST-MODIFIED:20200729T185400Z
UID:10486-1453406400-1453406400@octubre.cat
SUMMARY:Verbindung
DESCRIPTION:Dijous 21 de gener a les 20.00h. Un projecte multidisciplinar (música / imatge / dansa) de Julio Sosa. Entrada lliure.  \n  \n  \n\n Una performance de música / imatge / dansa. Improvisat i generat en temps real.  Un projecte de Julio Sosa Martínez Coreografia: Albert Garcia Saurí Comissària: Amparo Carbonell  Performance multimèdia que consisteix en una improvisació que combina dansa\, música i imatges en viu\, en la qual i a través de tecnologies interactives s’esborren les línies divisòries entre disciplines. La música i la imatge es generen a través del moviment d’un ballarí que es retroalimenta del que escolta\, sent i veu\, creant així un bucle infinit d’interpretació\, on es no pot distingir clarament un creador i un resultat. La performance es basa en la peça “Verbindung” (“Connexió”) de l’obra Aus der Sieben Tagen\, de Karlheinz Stockhausen.  Amb la col·laboració del Màster en Arts Visuals i Multimèdia de la UPV i el Departament d’Escultura de la Universitat Politècnica de València.  Entrada lliure.
URL:https://octubre.cat/activitat/verbindung/
CATEGORIES:Performance
ATTACH;FMTTYPE=image/jpeg:https://octubre.cat/www/wp-content/uploads/2020/07/activitat2491.jpg
END:VEVENT
END:VCALENDAR