BEGIN:VCALENDAR
VERSION:2.0
PRODID:-//Octubre Centre de Cultura Contemporània - ECPv5.1.6//NONSGML v1.0//EN
CALSCALE:GREGORIAN
METHOD:PUBLISH
X-WR-CALNAME:Octubre Centre de Cultura Contemporània
X-ORIGINAL-URL:https://octubre.cat
X-WR-CALDESC:Events for Octubre Centre de Cultura Contemporània
BEGIN:VTIMEZONE
TZID:Europe/Andorra
BEGIN:DAYLIGHT
TZOFFSETFROM:+0100
TZOFFSETTO:+0200
TZNAME:CEST
DTSTART:20130331T010000
END:DAYLIGHT
BEGIN:STANDARD
TZOFFSETFROM:+0200
TZOFFSETTO:+0100
TZNAME:CET
DTSTART:20131027T010000
END:STANDARD
END:VTIMEZONE
BEGIN:VEVENT
DTSTART;TZID=Europe/Andorra:20130628T190000
DTEND;TZID=Europe/Andorra:20130628T190000
DTSTAMP:20260423T231423
CREATED:20200729T170111Z
LAST-MODIFIED:20200729T184144Z
UID:9568-1372446000-1372446000@octubre.cat
SUMMARY:'Verano'\, de Paula Giménez Monar
DESCRIPTION:Divendres 28 de juny a les 19.00h: projecció del curtmetratge ‘Verano’\, de Paula Giménez Monar  \n  \n  \n\n Paula Giménez Monar (València\, 1989) va estudiar el grau de Cinema i Mitjans Audiovisuals a l’Escola Superior de Cinema i Audiovisuals de Catalunya (ESCAC) en l’especialitat de documental. Actualment col·labora  com a guionista i ajudant de producció en projectes documentals esportius\, a banda dels seus propis projectes.  El curtmetratge Verano fou seleccionat en la convocatòria d’Arts Visuals 2012 de la Sala d’Art Jove de Barcelona\, dins dels projectes de creació. També en l’exposició col·lectiva “Materia de Ensayo” de la galeria Demolden Video Project de Santander. Finalment\, fou projectat a “Como en casa” (Barcelona 2013)\, projecte col·lectiu comissariat per Alba Benavent.  La pel·lícula retrata una curta estada de l’autora a la casa dels seus avis a Picassent (l’Horta) durant un estiu\, on intenta recollir les transformacions en el ritme de vida de la seua família\, en el límit entre el tedi i la placidesa absoluta que envolta els dies en l’estat natural del pas del temps. Alhora\, és també un exercici d’aprenentatge entre la vivència\, la creació\, la intimitat i l’experiència\, en els quals els protagonistes s’acostumen a poc a poc a la convivència diària amb una càmera i la pròpia autora es divideix entre la situació real i el que està passant darrere d’aquesta.
URL:https://octubre.cat/activitat/verano-de-paula-gimenez-monar/
LOCATION:Sala d’actes
CATEGORIES:Cinema
ATTACH;FMTTYPE=image/jpeg:https://octubre.cat/www/wp-content/uploads/2020/07/activitat1824.jpg
END:VEVENT
END:VCALENDAR