BEGIN:VCALENDAR
VERSION:2.0
PRODID:-//Octubre Centre de Cultura Contemporània - ECPv5.1.6//NONSGML v1.0//EN
CALSCALE:GREGORIAN
METHOD:PUBLISH
X-WR-CALNAME:Octubre Centre de Cultura Contemporània
X-ORIGINAL-URL:https://octubre.cat
X-WR-CALDESC:Events for Octubre Centre de Cultura Contemporània
BEGIN:VTIMEZONE
TZID:Europe/Andorra
BEGIN:DAYLIGHT
TZOFFSETFROM:+0100
TZOFFSETTO:+0200
TZNAME:CEST
DTSTART:20090329T010000
END:DAYLIGHT
BEGIN:STANDARD
TZOFFSETFROM:+0200
TZOFFSETTO:+0100
TZNAME:CET
DTSTART:20091025T010000
END:STANDARD
END:VTIMEZONE
BEGIN:VEVENT
DTSTART;TZID=Europe/Andorra:20090226T193000
DTEND;TZID=Europe/Andorra:20090226T193000
DTSTAMP:20260424T143551
CREATED:20200729T182310Z
LAST-MODIFIED:20200729T182310Z
UID:12751-1235676600-1235676600@octubre.cat
SUMMARY:Vandana Shiva\, vista per Joan Buades
DESCRIPTION:Dijous 26 de febrer\, a les 19.30h:  Vandana Shiva\, vista per Joan Buades\, investigador del GIST (UIB) i expert en globalització i turisme.   \n  \n  \n\nCientífica\, filòsofa i escriptora índia.  El seu últim llibre Manifest per una democràcia de la terra proposa la democràcia de la terra com alternativa al capitalisme neoliberal actual. Joan Buades és investigador del GIST (Universitat de les Illes Balears) i expert en globalització i turisme.  Aquesta conferència forma part del II Cicle de Pensadors Ambientals
URL:https://octubre.cat/activitat/vandana-shiva-vista-per-joan-buades/
LOCATION:No definit
CATEGORIES:Institut del Territori
ATTACH;FMTTYPE=image/jpeg:https://octubre.cat/www/wp-content/uploads/2020/07/activitat776.jpg
END:VEVENT
END:VCALENDAR