BEGIN:VCALENDAR
VERSION:2.0
PRODID:-//Octubre Centre de Cultura Contemporània - ECPv5.1.6//NONSGML v1.0//EN
CALSCALE:GREGORIAN
METHOD:PUBLISH
X-WR-CALNAME:Octubre Centre de Cultura Contemporània
X-ORIGINAL-URL:https://octubre.cat
X-WR-CALDESC:Events for Octubre Centre de Cultura Contemporània
BEGIN:VTIMEZONE
TZID:Europe/Andorra
BEGIN:DAYLIGHT
TZOFFSETFROM:+0100
TZOFFSETTO:+0200
TZNAME:CEST
DTSTART:20160327T010000
END:DAYLIGHT
BEGIN:STANDARD
TZOFFSETFROM:+0200
TZOFFSETTO:+0100
TZNAME:CET
DTSTART:20161030T010000
END:STANDARD
END:VTIMEZONE
BEGIN:VEVENT
DTSTART;TZID=Europe/Andorra:20160928T190000
DTEND;TZID=Europe/Andorra:20160928T190000
DTSTAMP:20260421T153351
CREATED:20200729T172000Z
LAST-MODIFIED:20200729T185549Z
UID:10755-1475089200-1475089200@octubre.cat
SUMMARY:'Valentín\, la otra transición'\, de José Asensio
DESCRIPTION:Dimecres 28 de setembre a les 19.00h. Projecció presentada pel director. Entrada lliure.  \n  \n  \n\n Projecció presentada pel director.  La denominada Transició Espanyola no fou un procés històric pacífic. Tampoc els seus “únics protagonistes” foren els representants dels grans partits polítics o de les institucions de l’Estat de l’època. Aquell període va estar ple de persones i organitzacions que realitzaren dures crítiques i fortes mobilitzacions front a un procés que va servir com a maquillatge democràtic per a tota una sèrie de personatges i estructures fortament arrelades i servils de l’anterior règim feixista. Un procés clau que va consolidar fins als nostres dies el sistema econòmic i político-social capitalista.  Molts dels que lluitaren contra les polítiques i els pactes de les elits han estat oblidats i menystinguts pel silenci conscient de la Transició oficial. Valentín González fou una d’aquelles persones silenciades. Amb aquest documental recuperem la seua història i tractem de reconstruir una part de la memòria col·lectiva.  Direcció\, guió i documentació: José Asensio (2016) Supervisió narrativa: Álvaro Olavarría Muntatge i postproducció: Javier López Masterització de so: Rafael Antonio Martín Veu en off: Luis Miguel Arroyo González Intervenen: Ana María Martínez\, Antonio Pérez Collado\, Daniel Pont Martín\, Dolors Marín\, Emili Cortavitarte\, Josep Lluís Pitarch\, Juan Pérez Eslava\, Luis Sierra “Patillas”\, Mariano Sánchez Soler\, Miquel Amorós\, Miren Etxezarreta Zubizarreta\, Paqui González\, Rosa Solbes\, Valentín González\, Vicente Alcover Producció: CGT – País Valencià Durada:  — Entrada lliure Organitzat amb la col·laboració d’El Cine Social Coordinació del cicle: Antonio Lloréns
URL:https://octubre.cat/activitat/valentin-la-otra-transicion-de-jose-asensio/
LOCATION:Sala d’actes
CATEGORIES:Tercer cicle de cinema social
ATTACH;FMTTYPE=image/jpeg:https://octubre.cat/www/wp-content/uploads/2020/07/activitat2631.jpg
END:VEVENT
END:VCALENDAR