BEGIN:VCALENDAR
VERSION:2.0
PRODID:-//Octubre Centre de Cultura Contemporània - ECPv5.1.6//NONSGML v1.0//EN
CALSCALE:GREGORIAN
METHOD:PUBLISH
X-WR-CALNAME:Octubre Centre de Cultura Contemporània
X-ORIGINAL-URL:https://octubre.cat
X-WR-CALDESC:Events for Octubre Centre de Cultura Contemporània
BEGIN:VTIMEZONE
TZID:Europe/Andorra
BEGIN:DAYLIGHT
TZOFFSETFROM:+0100
TZOFFSETTO:+0200
TZNAME:CEST
DTSTART:20140330T010000
END:DAYLIGHT
BEGIN:STANDARD
TZOFFSETFROM:+0200
TZOFFSETTO:+0100
TZNAME:CET
DTSTART:20141026T010000
END:STANDARD
END:VTIMEZONE
BEGIN:VEVENT
DTSTART;TZID=Europe/Andorra:20140625T190000
DTEND;TZID=Europe/Andorra:20140625T190000
DTSTAMP:20260421T043358
CREATED:20200729T170524Z
LAST-MODIFIED:20200730T041150Z
UID:9813-1403722800-1403722800@octubre.cat
SUMMARY:Valentín González\, 35 anys després
DESCRIPTION:Dimecres 25 de juny a les 19.00h. Debat “Valentín González\, 35anys després: Transició versus Repressió” organitzat per CGT-València  \n  \n  \n\n 12.30h. Concentració Homenatge al company Valentín Entrada principal de l’Antic Mercat d’Abastos (Carrer Alberic. València)  19.00h a l’Octubre CCC Xerrada “Valentín González 35anys després\, Transició versus Repressió” amb –José Manuel Muñoz Póliz (secretari general de CGT) –Antonio Pérez Collado (militant anarcosindicalista) –Paqui González (germana de Valentín) –Ricard Camil Torres (historiador\, Universitat de València)  El 25 de juny es compleixen 35 anys de la mort de Valentín González Ramírez\, treballador de la Colla del Mercat de d’Abastos de València\, militant anarcosindicalista de 20 anys d’edat. Va ser assassinat el 25 de juny de 1979 d’un tret a boca de canó per la Policia Nacional a la Vaga legalment autoritzada en defensa de les reivindicacions de la classe treballadora.  Per això la Confederació i especialment el sindicat de Transports\, Comunicacions i Mar de la CGT (abans sindicat de Transports de CNT) a València\, estem ultimant els detalls d’aquesta data.  Avui més que mai seguim reivindicant la memòria i la justícia del company Valentí. El nostre company va morir per l’impacte d’una pilota de goma disparada a menys de tres metres de distància durant la vaga de proveïments\, centre on treballava juntament amb el seu pare. La repulsa per la mort de Valentín mobilitzà una de les manifestacions més importants durant l’anomenada transició a la ciutat de València. A més de la convocatòria total i unitària de Vaga General recolzada per totes les organitzacions polítiques i sindicals. Parlar de Valentín González és parlar de repressió\, de memòria\, de justícia i sobretot de dignitat i de solidaritat obrera.  Organitzat per CGT-València
URL:https://octubre.cat/activitat/valentin-gonzalez-35-anys-despres/
CATEGORIES:Conferències i congressos
ATTACH;FMTTYPE=image/jpeg:https://octubre.cat/www/wp-content/uploads/2020/07/activitat2099.jpg
END:VEVENT
END:VCALENDAR