BEGIN:VCALENDAR
VERSION:2.0
PRODID:-//Octubre Centre de Cultura Contemporània - ECPv5.1.6//NONSGML v1.0//EN
CALSCALE:GREGORIAN
METHOD:PUBLISH
X-WR-CALNAME:Octubre Centre de Cultura Contemporània
X-ORIGINAL-URL:https://octubre.cat
X-WR-CALDESC:Events for Octubre Centre de Cultura Contemporània
BEGIN:VTIMEZONE
TZID:Europe/Andorra
BEGIN:DAYLIGHT
TZOFFSETFROM:+0100
TZOFFSETTO:+0200
TZNAME:CEST
DTSTART:20160327T010000
END:DAYLIGHT
BEGIN:STANDARD
TZOFFSETFROM:+0200
TZOFFSETTO:+0100
TZNAME:CET
DTSTART:20161030T010000
END:STANDARD
END:VTIMEZONE
BEGIN:VEVENT
DTSTART;TZID=Europe/Andorra:20160614T000000
DTEND;TZID=Europe/Andorra:20160616T000000
DTSTAMP:20260421T182342
CREATED:20200729T171907Z
LAST-MODIFIED:20200729T185526Z
UID:10696-1465862400-1466035200@octubre.cat
SUMMARY:València Sex Festival 2016
DESCRIPTION:El dimarts 14 i el dijous 16 de juny\, l’Octubre CCC s’uneix a la celebració del València Sex Festival amb col·loquis\, performances i projeccions de cinema.  \n  \n  \n\n València Sex Festival 2016  Festival eròtico-cultural de València: el porno sí és cultura Setmana cultural: del 9 al 16 de juny Festival: 17 i 18 de juny  Una multi-experiència sensorial\, artística\, cultural\, intel·lectual i lúdica al voltant del sexe. Perquè reivindiquem el porno com a forma d’expressió artística i als seus protagonistes com a creadors que mereixen el mateix respecte i consideració que els de qualsevol altre gènere. Actrius i actors\, directors\, escriptors\, performers\, músics\, artistes plàstics… i totes aquelles persones\, empreses i organitzacions que treballen en l’art del plaer.  El festival tindrà lloc del 9 al 18 de juny a diverses ubicacions de la ciutat de València: l’Octubre CCC\, l’Espai Llimera\, Fira de València i La3 Club.   Activitats que tenen lloc a l’Octubre CCC:   Dimarts 14 de juny  –18.30h. Presentació del llibre Manual de psiconáutica\, d’Amarna Miller. Amarna Miller (Madrid\, 1990) és actriu i directora porno\, empresària i llicenciada en belles arts. Ha treballat amb productores com ara SexArt\, X-Art\, Private\, DDF Network\, Reality Kings o Abbywinters i el 2014 va ser guardonada amb el premi Ninfa a la millor actriu pornogràfica. Col·labora habitualment en publicacions com Primera Linea\, Playground Magazine i Orgasmatrix.com.  –19.30h. Col·loqui “Preguntes i respostes al porno ètic” amb Amarna Miller i Nico Bertrand (director i productor de porno / Darkness Studio). L’auge de la llibertat a l’hora de parlar sobre sexe i\, per tant\, de pornografia\, ha permès l’aparició de veus dins de la indústria per a adults que\, a poc a poc i gràcies a les xarxes socials\, pretenen implantar un model ètic i alternatiu dins del sector.  –21.00h. Performance “Mooning” de Marieta Campos. Marieta Campos (València\, 1984)\, artista multidisciplinar\, és llicenciada en Belles Arts per la Universitat Politècnica de València i treballa els camps de la performance\, la gràfica\, la fotografia\, el videoart\, etc.   Dijous 16 de juny  –18.00h. Cinema (La Sexplícita) Projecció de films d’Amarna Miller\, Nico Bertrand\, Colby Keller\, Irina Vega\, Tom Long\, etc. Entrades a 4$ en taquilla (reserva d’entrades al correu lasexplicita [a] gmail.com   Més informació i programació completa del VSF 2016.
URL:https://octubre.cat/activitat/valencia-sex-festival-2016/
LOCATION:No definit
CATEGORIES:Conferències i congressos
ATTACH;FMTTYPE=image/jpeg:https://octubre.cat/www/wp-content/uploads/2020/07/activitat2601.jpg
END:VEVENT
END:VCALENDAR