BEGIN:VCALENDAR
VERSION:2.0
PRODID:-//Octubre Centre de Cultura Contemporània - ECPv5.1.6//NONSGML v1.0//EN
CALSCALE:GREGORIAN
METHOD:PUBLISH
X-WR-CALNAME:Octubre Centre de Cultura Contemporània
X-ORIGINAL-URL:https://octubre.cat
X-WR-CALDESC:Events for Octubre Centre de Cultura Contemporània
BEGIN:VTIMEZONE
TZID:Europe/Andorra
BEGIN:DAYLIGHT
TZOFFSETFROM:+0100
TZOFFSETTO:+0200
TZNAME:CEST
DTSTART:20170326T010000
END:DAYLIGHT
BEGIN:STANDARD
TZOFFSETFROM:+0200
TZOFFSETTO:+0100
TZNAME:CET
DTSTART:20171029T010000
END:STANDARD
END:VTIMEZONE
BEGIN:VEVENT
DTSTART;TZID=Europe/Andorra:20171021T190000
DTEND;TZID=Europe/Andorra:20171021T190000
DTSTAMP:20260420T165852
CREATED:20200729T190150Z
LAST-MODIFIED:20200729T190150Z
UID:13256-1508612400-1508612400@octubre.cat
SUMMARY:València per Mèxic
DESCRIPTION:Dissabte 21 d’octubre a les 19.00h. Amb Elma Sambeat\, Las Reinas Magas\, Lüla Reyna i Miquel P. Perelló & Maria Moreno. Entrades a 10€.  \n  \n  \n\n Concert solidari per les víctimes del terratrèmol:  –Elma Sambeat –Las Reinas Magas –Lüla Reyna –Miquel P. Perelló & Maria Moreno  Apertura portes: 18.30h  Entrades: 10€ preu únic Anticipades a movingtickets.com  — Espai Octubre Concerts és una iniciativa de l’Octubre CCC gestionada per les productores musicals Metrònom\, Play Producciones\,  Mésdemil i lacasacalba.org.
URL:https://octubre.cat/activitat/valencia-per-mexic/
LOCATION:Sala d’actes
CATEGORIES:Espai Octubre Concerts
ATTACH;FMTTYPE=image/jpeg:https://octubre.cat/www/wp-content/uploads/2020/07/activitat2896.jpg
END:VEVENT
END:VCALENDAR