BEGIN:VCALENDAR
VERSION:2.0
PRODID:-//Octubre Centre de Cultura Contemporània - ECPv5.1.6//NONSGML v1.0//EN
CALSCALE:GREGORIAN
METHOD:PUBLISH
X-WR-CALNAME:Octubre Centre de Cultura Contemporània
X-ORIGINAL-URL:https://octubre.cat
X-WR-CALDESC:Events for Octubre Centre de Cultura Contemporània
BEGIN:VTIMEZONE
TZID:Europe/Andorra
BEGIN:DAYLIGHT
TZOFFSETFROM:+0100
TZOFFSETTO:+0200
TZNAME:CEST
DTSTART:20180325T010000
END:DAYLIGHT
BEGIN:STANDARD
TZOFFSETFROM:+0200
TZOFFSETTO:+0100
TZNAME:CET
DTSTART:20181028T010000
END:STANDARD
END:VTIMEZONE
BEGIN:VEVENT
DTSTART;TZID=Europe/Andorra:20180411T190000
DTEND;TZID=Europe/Andorra:20180411T190000
DTSTAMP:20260421T132400
CREATED:20200729T190342Z
LAST-MODIFIED:20200729T190342Z
UID:13371-1523473200-1523473200@octubre.cat
SUMMARY:València Extra: un nou pas\, una evolució
DESCRIPTION:Dimecres 11 d’abril a les 19.00h\, presentació de la nova identitat gràfica i el seu suplement en paper.  \n  \n  \n\n València Extra presenta la nova identitat gràfica i el seu suplement en paper  El pròxim 11 d’abril València Extra presenta la seua renovada identitat gràfica i també el seu primer suplement en paper que arriba a València. A un dels centres bressol de la nostra cultura i la nostra llengua\, l’Octubre Centre de Cultura Contemporània\, el diari digital valencià presentarà la nova imatge\, novetats destacades del diari web i per descomptat\, el primer suplement en paper del mitjà de comunicació per a València i l’àrea metropolitana.
URL:https://octubre.cat/activitat/valencia-extra-un-nou-pas-una-evolucio/
CATEGORIES:Literatura
ATTACH;FMTTYPE=image/jpeg:https://octubre.cat/www/wp-content/uploads/2020/07/activitat3014.jpg
END:VEVENT
END:VCALENDAR