BEGIN:VCALENDAR
VERSION:2.0
PRODID:-//Octubre Centre de Cultura Contemporània - ECPv5.1.6//NONSGML v1.0//EN
CALSCALE:GREGORIAN
METHOD:PUBLISH
X-WR-CALNAME:Octubre Centre de Cultura Contemporània
X-ORIGINAL-URL:https://octubre.cat
X-WR-CALDESC:Events for Octubre Centre de Cultura Contemporània
BEGIN:VTIMEZONE
TZID:Europe/Andorra
BEGIN:DAYLIGHT
TZOFFSETFROM:+0100
TZOFFSETTO:+0200
TZNAME:CEST
DTSTART:20180325T010000
END:DAYLIGHT
BEGIN:STANDARD
TZOFFSETFROM:+0200
TZOFFSETTO:+0100
TZNAME:CET
DTSTART:20181028T010000
END:STANDARD
END:VTIMEZONE
BEGIN:VEVENT
DTSTART;TZID=Europe/Andorra:20181127T190000
DTEND;TZID=Europe/Andorra:20181127T190000
DTSTAMP:20260422T012008
CREATED:20200729T173219Z
LAST-MODIFIED:20200729T191007Z
UID:11324-1543345200-1543345200@octubre.cat
SUMMARY:València a Pedrolo
DESCRIPTION:Dimarts 27 de novembre a les 19.00h. Actuació musical de Cesk Freixas. Taula rodona amb Núria Cadenes\, Gemma Pasqual\, Ramon X. Rosselló i Anna Maria Villalonga.	 \n  \n  \n\n 	 Actuació de Cesk Freixas.  Taula rodona amb —Núria Cadenes\, escriptora —Gemma Pasqual\, vicepresidenta de l’AELC —Ramon X. Rosselló\, professor de la UV —Anna Maria Villalonga\, comissària de l’Any Pedrolo Conduïda per Emili Payà (Octubre CCC)  Acte d’inauguració de l’exposició itinerant Pedrolo\, més enllà dels límits\, que pot visitar-se fins el 9 de desembre.  Si voleu quedar-vos a sopar inscriviu-vos a aelc@escriptors.cat abans del 23 de novembre. Menú de 20€.  — Organitzen: –Associació d’Escriptors en Llengua Catalana –Acció Cultural del País Valencià –Pla valencià de foment del llibre i la lectura (Generalitat Valenciana) Col·laboren: –Institució de les Lletres Catalanes –Universitat de València
URL:https://octubre.cat/activitat/valencia-a-pedrolo/
LOCATION:Hall
CATEGORIES:Conferències i congressos
ATTACH;FMTTYPE=image/jpeg:https://octubre.cat/www/wp-content/uploads/2020/07/activitat3162.jpg
END:VEVENT
END:VCALENDAR