BEGIN:VCALENDAR
VERSION:2.0
PRODID:-//Octubre Centre de Cultura Contemporània - ECPv5.1.6//NONSGML v1.0//EN
CALSCALE:GREGORIAN
METHOD:PUBLISH
X-WR-CALNAME:Octubre Centre de Cultura Contemporània
X-ORIGINAL-URL:https://octubre.cat
X-WR-CALDESC:Events for Octubre Centre de Cultura Contemporània
BEGIN:VTIMEZONE
TZID:Europe/Andorra
BEGIN:DAYLIGHT
TZOFFSETFROM:+0100
TZOFFSETTO:+0200
TZNAME:CEST
DTSTART:20060326T010000
END:DAYLIGHT
BEGIN:STANDARD
TZOFFSETFROM:+0200
TZOFFSETTO:+0100
TZNAME:CET
DTSTART:20061029T010000
END:STANDARD
END:VTIMEZONE
BEGIN:VEVENT
DTSTART;TZID=Europe/Andorra:20061212T000000
DTEND;TZID=Europe/Andorra:20061212T000000
DTSTAMP:20260420T200143
CREATED:20251224T114203Z
LAST-MODIFIED:20251224T114203Z
UID:24281-1165881600-1165881600@octubre.cat
SUMMARY:V Jornades Econòmiques de l'Euroregió de l'Arc Mediterrani
DESCRIPTION:–Sessió primera: L’Europa de les Euroregions\nA càrrec de Slawomir Demkowicz-Dobrzanski (Euroregió del Mar Bàltic)\, Bernadette Bongartz (Eurorégion Meuse-Rhin / Bèlgica\, Holanda\, Alemanya) i Joan Baptista Casas Onteniente (Euroregió de l’Arc Mediterrani). \n–Sessió segona: Les empreses de l’Euram. Presentació del “Llibre Blanc de les Empreses de l’Euram”\nA càrrec d’Oriol Amat (degà de la Universitat Pompeu Fabra)\, Trinitat Casasús (degana de la Facultat d’Econòmiques de la Universitat de València) i Andreu Sansó Rosselló (director del Departament d’Economia Aplicada de la Universitat de les Illes Balears)
URL:https://octubre.cat/activitat/v-jornades-economiques-de-leuroregio-de-larc-mediterrani/
LOCATION:No definit
CATEGORIES:Institut Ignasi Villalonga d'Economia i Empresa
ATTACH;FMTTYPE=image/jpeg:https://octubre.cat/www/wp-content/uploads/2020/07/conferencia1.jpg
END:VEVENT
END:VCALENDAR