BEGIN:VCALENDAR
VERSION:2.0
PRODID:-//Octubre Centre de Cultura Contemporània - ECPv5.1.6//NONSGML v1.0//EN
CALSCALE:GREGORIAN
METHOD:PUBLISH
X-WR-CALNAME:Octubre Centre de Cultura Contemporània
X-ORIGINAL-URL:https://octubre.cat
X-WR-CALDESC:Events for Octubre Centre de Cultura Contemporània
BEGIN:VTIMEZONE
TZID:Europe/Andorra
BEGIN:DAYLIGHT
TZOFFSETFROM:+0100
TZOFFSETTO:+0200
TZNAME:CEST
DTSTART:20090329T010000
END:DAYLIGHT
BEGIN:STANDARD
TZOFFSETFROM:+0200
TZOFFSETTO:+0100
TZNAME:CET
DTSTART:20091025T010000
END:STANDARD
END:VTIMEZONE
BEGIN:VEVENT
DTSTART;TZID=Europe/Andorra:20091015T193000
DTEND;TZID=Europe/Andorra:20091015T193000
DTSTAMP:20260420T192625
CREATED:20200729T182632Z
LAST-MODIFIED:20200729T182632Z
UID:12939-1255635000-1255635000@octubre.cat
SUMMARY:“Urbanalització. Paisatges de copy&paste”
DESCRIPTION:Dijous 15 d’octubre\, a les 19.30h: “Urbanalització. Paisatges de copy&paste”\, taula rodona amb Francesc Muñoz\, Josep Ramoneda\, Joan Romero i Jordi Bernardo.   \n  \n  \n\nTaula rodona: “Urbanalització. Paisatges de copy&paste” Debat sobre les dinàmiques globalitzadores en espais urbans i periurbans. L’acte comptarà amb la participació de destacades figures de la cultura\, la geografia i l’arquitectura.   Afirma Francesc Muñoz\, geògraf i professor de la Universitat Autònoma de Barcelona\, que “tot acaba semblant-se. Pertot arreu reconeixem espais configurats idènticament. Els paisatges s’han tornat comuns i els llocs han esdevingut globals. Muñoz ha batejat aquesta maniobra de copy&paste amb el neologisme encunyat per ell mateix “urbanalització”. La construcció d’espais s’ha tornat banal. Afectats per aquest fenomen els espais perden identitat i acaben sent còpies de còpies\, cobrint sense límits el territori i imposant els estils de vida que porten associats“.  Hi intervendran:  Francesc Muñoz: geògraf\, professor de la Universitat Autònoma de Barcelona. Josep Ramoneda: director del Centre de Cultura Contemporània de Barcelona. Joan Romero: catedràtic de Geografia de la Universitat de València.  Jordi Bernado: arquitecte i fotògraf.
URL:https://octubre.cat/activitat/urbanalitzacio-paisatges-de-copypaste/
LOCATION:No definit
CATEGORIES:Institut del Territori
ATTACH;FMTTYPE=image/gif:https://octubre.cat/www/wp-content/uploads/2020/07/activitat973.gif
END:VEVENT
END:VCALENDAR