BEGIN:VCALENDAR
VERSION:2.0
PRODID:-//Octubre Centre de Cultura Contemporània - ECPv5.1.6//NONSGML v1.0//EN
CALSCALE:GREGORIAN
METHOD:PUBLISH
X-WR-CALNAME:Octubre Centre de Cultura Contemporània
X-ORIGINAL-URL:https://octubre.cat
X-WR-CALDESC:Events for Octubre Centre de Cultura Contemporània
BEGIN:VTIMEZONE
TZID:Europe/Andorra
BEGIN:DAYLIGHT
TZOFFSETFROM:+0100
TZOFFSETTO:+0200
TZNAME:CEST
DTSTART:20250330T010000
END:DAYLIGHT
BEGIN:STANDARD
TZOFFSETFROM:+0200
TZOFFSETTO:+0100
TZNAME:CET
DTSTART:20251026T010000
END:STANDARD
END:VTIMEZONE
BEGIN:VEVENT
DTSTART;TZID=Europe/Andorra:20250528T180000
DTEND;TZID=Europe/Andorra:20250528T180000
DTSTAMP:20260421T132358
CREATED:20250516T143117Z
LAST-MODIFIED:20250516T143117Z
UID:22798-1748455200-1748455200@octubre.cat
SUMMARY:UOC NEXUS: Teixint aliances entre la Comunitat
DESCRIPTION:Una jornada dirigida a la comunitat UOC que servirà per a connectar i enfortir els vincles entre el nostre estudiantat\, Alumni\, personal docent i investigador\, així com amb professionals i representants d’entitats col·laboradores. \nEn la trobada es presentaran projectes transformadors\, que hagen inspirat i marcat la diferència en els entorns professionals\, acadèmics o personals d’els/les ponents i en els orígens dels quals han tingut una influència positiva la UOC. \nEl Vicerector d’Aliances\, Comunitat i Cultura\, Manel Jiménez-Morales ens acompanyarà per a reflexionar sobre com la nostra comunitat pot continuar impulsant el coneixement i la transformació social. \n—\nOrganitzat per la Universitat Oberta de Catalunya (UOC) amb la col·laboració de l’Octubre CCC
URL:https://octubre.cat/activitat/uoc-nexus-teixint-aliances-entre-la-comunitat/
LOCATION:Sala d’actes
CATEGORIES:Conferències i congressos
ATTACH;FMTTYPE=image/jpeg:https://octubre.cat/www/wp-content/uploads/2025/05/uoc28maig.jpg
END:VEVENT
END:VCALENDAR