BEGIN:VCALENDAR
VERSION:2.0
PRODID:-//Octubre Centre de Cultura Contemporània - ECPv5.1.6//NONSGML v1.0//EN
CALSCALE:GREGORIAN
METHOD:PUBLISH
X-WR-CALNAME:Octubre Centre de Cultura Contemporània
X-ORIGINAL-URL:https://octubre.cat
X-WR-CALDESC:Events for Octubre Centre de Cultura Contemporània
BEGIN:VTIMEZONE
TZID:Europe/Andorra
BEGIN:DAYLIGHT
TZOFFSETFROM:+0100
TZOFFSETTO:+0200
TZNAME:CEST
DTSTART:20160327T010000
END:DAYLIGHT
BEGIN:STANDARD
TZOFFSETFROM:+0200
TZOFFSETTO:+0100
TZNAME:CET
DTSTART:20161030T010000
END:STANDARD
END:VTIMEZONE
BEGIN:VEVENT
DTSTART;TZID=Europe/Andorra:20160217T190000
DTEND;TZID=Europe/Andorra:20160217T190000
DTSTAMP:20260421T153619
CREATED:20200729T171627Z
LAST-MODIFIED:20200729T185416Z
UID:10526-1455735600-1455735600@octubre.cat
SUMMARY:'Uno de los dos no puede estar equivocado'\, de Pablo Llorca
DESCRIPTION:Dimecres 17 de febrer a les 19.00h. Projecció presentada per Antonio Lloréns. Entrada lliure.  \n  \n  \n\n Una pel·lícula sobre la necessitat de contar històries. Entre les diverses trames destaca una que narra la relació a Beirut entre el Diablo i Almudena\, una periodista de televisió. Tots dos s’enamoren\, però ell\, esglaiat\, no es presenta a la segona cita. Anys després\, arriba a Madrid disposat a convéncer-la que visca amb ell\, però ella té ja una vida molt estable a la que no vol renunciar.  Direcció i guió: Pablo Llorca (2007) V.O. en castellà Fotografia: Almudena Sánchez Música: Victor Simonet Repartiment: Luís Miguel Cintra\, Mónica López\, Alberto Jiménez\, Pedro Casablanc\, Francisco Maestre\, José Luis Torrijo Productora: La Cicatriz Durada: 80’  — Entrada lliure Organitzat amb la col·laboració d’El Cine Social Coordinació del cicle: Antonio Lloréns
URL:https://octubre.cat/activitat/uno-de-los-dos-no-puede-estar-equivocado-de-pablo-llorca/
LOCATION:Sala d’actes
CATEGORIES:Tercer cicle de cinema social
ATTACH;FMTTYPE=image/jpeg:https://octubre.cat/www/wp-content/uploads/2020/07/activitat2511.jpg
END:VEVENT
END:VCALENDAR