BEGIN:VCALENDAR
VERSION:2.0
PRODID:-//Octubre Centre de Cultura Contemporània - ECPv5.1.6//NONSGML v1.0//EN
CALSCALE:GREGORIAN
METHOD:PUBLISH
X-WR-CALNAME:Octubre Centre de Cultura Contemporània
X-ORIGINAL-URL:https://octubre.cat
X-WR-CALDESC:Events for Octubre Centre de Cultura Contemporània
BEGIN:VTIMEZONE
TZID:Europe/Andorra
BEGIN:DAYLIGHT
TZOFFSETFROM:+0100
TZOFFSETTO:+0200
TZNAME:CEST
DTSTART:20140330T010000
END:DAYLIGHT
BEGIN:STANDARD
TZOFFSETFROM:+0200
TZOFFSETTO:+0100
TZNAME:CET
DTSTART:20141026T010000
END:STANDARD
END:VTIMEZONE
BEGIN:VEVENT
DTSTART;TZID=Europe/Andorra:20140225T000000
DTEND;TZID=Europe/Andorra:20140319T000000
DTSTAMP:20260420T215511
CREATED:20200729T170333Z
LAST-MODIFIED:20200831T152828Z
UID:9702-1393286400-1395187200@octubre.cat
SUMMARY:Una Imatge\, un Dret
DESCRIPTION:En aquesta exposició trobem la visió que de la nostra “salut cívica” ens ofereix un grup de joves de l’Institut Lluís Vives de València\, dos anys després dels fets de la Primavera Valenciana. Organitzada per l’Associació Jurídica Primavera Valenciana amb la col·laboració de l’Octubre CCC \nProrrogada fins el 19 de març \nL’exposició “Una Imatge\, un Dret” ens duu les imatges amb les quals els estudiants de batxillerat de l’institut Lluís Vives de València\, que fa dos anys patiren la repressió policial en la coneguda com Primavera Valenciana\, han plasmat la seua reflexió sobre els drets fonamentals consagrats a la Constitució Espanyola de 1978. L’Associació Jurídica Primavera Valenciana\, que dóna suport jurídic als sancionats i detinguts per aquells i altres fets\, sempre actuant en defensa del seus drets fonamentals\, ha convocat el “I Concurs AJPV – els Drets Fonamentals: una imatge\, un dret” a l’Institut\, com a conclusió d’una sèrie de tallers divulgatius sobre els drets fonamentals que han dut a terme al centre amb aquests alumnes. A més de la seua activitat de defensa jurídica\, l’AJPV desenvolupa una activitat pedagògica en diversos àmbits educatius\, especialment en secundària\, com ara la seua “Farmaciola de Primers Auxilis Jurídics”\, que es veurà ara enriquida amb el material gràfic presentat a aquest concurs pels estudiants. En aquesta exposició ens trobem la visió que de la nostra “salut cívica” ens ofereix aquest grup de joves a les portes de la majoria d’edat.
URL:https://octubre.cat/activitat/una-imatge-un-dret/
LOCATION:Hall
CATEGORIES:Exposicions
ATTACH;FMTTYPE=image/jpeg:https://octubre.cat/www/wp-content/uploads/2020/07/activitat1994.jpg
END:VEVENT
END:VCALENDAR