BEGIN:VCALENDAR
VERSION:2.0
PRODID:-//Octubre Centre de Cultura Contemporània - ECPv5.1.6//NONSGML v1.0//EN
CALSCALE:GREGORIAN
METHOD:PUBLISH
X-WR-CALNAME:Octubre Centre de Cultura Contemporània
X-ORIGINAL-URL:https://octubre.cat
X-WR-CALDESC:Events for Octubre Centre de Cultura Contemporània
BEGIN:VTIMEZONE
TZID:Europe/Andorra
BEGIN:DAYLIGHT
TZOFFSETFROM:+0100
TZOFFSETTO:+0200
TZNAME:CEST
DTSTART:20130331T010000
END:DAYLIGHT
BEGIN:STANDARD
TZOFFSETFROM:+0200
TZOFFSETTO:+0100
TZNAME:CET
DTSTART:20131027T010000
END:STANDARD
END:VTIMEZONE
BEGIN:VEVENT
DTSTART;TZID=Europe/Andorra:20131211T190000
DTEND;TZID=Europe/Andorra:20131211T190000
DTSTAMP:20260423T015843
CREATED:20200729T170247Z
LAST-MODIFIED:20200729T184303Z
UID:9657-1386788400-1386788400@octubre.cat
SUMMARY:'Una casa de bojos'\, de Cédric Klapisch
DESCRIPTION:Dimecres 11 de desembre a les 19.00h. Pel·lícula presentada per Victòria Borràs (directora de producció) i Rosa Ros (directora d’art). Cicle de cinema Barcelona Escenari 2013  \n  \n  \n\n Pel·lícula presentada per Victòria Borràs (directora de producció) i Rosa Ros (directora d’art)  La història segueix Xavier\, un francès de 24 anys\, que deixa la seva xicota i el seu país per a fer un Erasmus a Barcelona\, com a prerequisit per aconseguir una feina al govern francès. En el vol d’anada\, coneix una parella francesa jove que el deixa quedar-se al seu pis mentre busca un lloc per viure. Xavier aconsegueix trobar un apartament amb estudiants de tot Europa\, incloent-hi Anglaterra\, Bèlgica\, Espanya\, Itàlia\, Alemanya\, i Dinamarca. El grup d’estudiants passa a ser un grup de bons amics i la resta de la pel·lícula es basa en les seves interaccions.  Direcció: Cédric Klapisch (2002) Intèrprets: Romain Duris\, Barnaby Metschurat\, Judith Grodèche\, Cécile de France\, Kelly Reilly\, Audrey Taoutou  Organitzat per l’Octubre CCC amb la col·laboració de l’Institut de Cultura de Barcelona  Direcció del cicle: Antonio Llorens  Entrada lliure
URL:https://octubre.cat/activitat/una-casa-de-bojos-de-cedric-klapisch/
LOCATION:Sala d’actes
CATEGORIES:Barcelona Escenari 2013 (cinema)
ATTACH;FMTTYPE=image/jpeg:https://octubre.cat/www/wp-content/uploads/2020/07/activitat1947.jpg
END:VEVENT
END:VCALENDAR