BEGIN:VCALENDAR
VERSION:2.0
PRODID:-//Octubre Centre de Cultura Contemporània - ECPv5.1.6//NONSGML v1.0//EN
CALSCALE:GREGORIAN
METHOD:PUBLISH
X-WR-CALNAME:Octubre Centre de Cultura Contemporània
X-ORIGINAL-URL:https://octubre.cat
X-WR-CALDESC:Events for Octubre Centre de Cultura Contemporània
BEGIN:VTIMEZONE
TZID:Europe/Andorra
BEGIN:DAYLIGHT
TZOFFSETFROM:+0100
TZOFFSETTO:+0200
TZNAME:CEST
DTSTART:20140330T010000
END:DAYLIGHT
BEGIN:STANDARD
TZOFFSETFROM:+0200
TZOFFSETTO:+0100
TZNAME:CET
DTSTART:20141026T010000
END:STANDARD
END:VTIMEZONE
BEGIN:VEVENT
DTSTART;TZID=Europe/Andorra:20140628T100000
DTEND;TZID=Europe/Andorra:20140628T100000
DTSTAMP:20260421T074047
CREATED:20200729T170515Z
LAST-MODIFIED:20200730T041146Z
UID:9804-1403949600-1403949600@octubre.cat
SUMMARY:Una administració al servei de la ciutadania
DESCRIPTION:Dissabte 28 de juny de 10h a 19h. Jornades de formació organitzades per Iniciativa del Poble Valencià i l’Escola de Formació Èlia Serrano  \n  \n  \n\n Estratègies per al canvi: una administració al servei de la ciutadania Jornada de Formació.  Organitzat per Iniciativa del Poble Valencià (IPV) i l’Escola de Formació Èlia Serrano
URL:https://octubre.cat/activitat/una-administracio-al-servei-de-la-ciutadania/
LOCATION:Sala d’actes
CATEGORIES:Conferències i congressos
ATTACH;FMTTYPE=image/jpeg:https://octubre.cat/www/wp-content/uploads/2020/07/activitat2095.jpg
END:VEVENT
END:VCALENDAR