BEGIN:VCALENDAR
VERSION:2.0
PRODID:-//Octubre Centre de Cultura Contemporània - ECPv5.1.6//NONSGML v1.0//EN
CALSCALE:GREGORIAN
METHOD:PUBLISH
X-WR-CALNAME:Octubre Centre de Cultura Contemporània
X-ORIGINAL-URL:https://octubre.cat
X-WR-CALDESC:Events for Octubre Centre de Cultura Contemporània
BEGIN:VTIMEZONE
TZID:Europe/Andorra
BEGIN:DAYLIGHT
TZOFFSETFROM:+0100
TZOFFSETTO:+0200
TZNAME:CEST
DTSTART:20150329T010000
END:DAYLIGHT
BEGIN:STANDARD
TZOFFSETFROM:+0200
TZOFFSETTO:+0100
TZNAME:CET
DTSTART:20151025T010000
END:STANDARD
END:VTIMEZONE
BEGIN:VEVENT
DTSTART;TZID=Europe/Andorra:20150605T190000
DTEND;TZID=Europe/Andorra:20150605T190000
DTSTAMP:20260421T152012
CREATED:20200729T171114Z
LAST-MODIFIED:20200730T041447Z
UID:10195-1433530800-1433530800@octubre.cat
SUMMARY:'Un viatge per les músiques del món'\, amb Will McCarthy i Nuno Alves
DESCRIPTION:Divendres 5 de juny a les 19.00h. Entrada al concert: 5 euros.  \n  \n  \n\n Will McCarthy i Nuno Alves són dos músics molt respectats que pertanyen a les bandes Folk Jazz Árabe i Folk Jazz Blues de València  En aquesta ocasió proposen un viatge per músiques de molts colors\, que inclourà el seu tema de fussió àrab Balansiya que pertany al documental Sobre el cielo de Azerbaiyán (dirigit per Sagrario Perpiñán i que està inclòs en el nostre cicle de Cinema Social). Inclouran també temes com una chanson francesa original\, un fado en portuguès\, alguna cosa de fusió flamenca\, un blues en homenatge a BB King\, un clàssic de Van Morrison\, un homenatge a Bob Marley\, temes de la pel·lícula Midnight Cowboy i alguna cançó de jazz i folk amb sabor a Europa de l’Est.  Will i Nuno\, amb les seues bandes\, han tocat per exemple a festivals com la Fira de les Nacions de València o el de Músiques del Món de l’Eliana i a sales com Black Note\, Café Mercedes Jazz\, Radio City\, Café el Duende\, etc.   Will McCarthy: veu i guitarra Nuno Alves: trompeta  Entrada: 5 euros
URL:https://octubre.cat/activitat/un-viatge-per-les-musiques-del-mon-amb-will-mccarthy-i-nuno-alves/
LOCATION:Sala d’actes
CATEGORIES:Música
ATTACH;FMTTYPE=image/jpeg:https://octubre.cat/www/wp-content/uploads/2020/07/activitat2336.jpg
END:VEVENT
END:VCALENDAR