BEGIN:VCALENDAR
VERSION:2.0
PRODID:-//Octubre Centre de Cultura Contemporània - ECPv5.1.6//NONSGML v1.0//EN
CALSCALE:GREGORIAN
METHOD:PUBLISH
X-WR-CALNAME:Octubre Centre de Cultura Contemporània
X-ORIGINAL-URL:https://octubre.cat
X-WR-CALDESC:Events for Octubre Centre de Cultura Contemporània
BEGIN:VTIMEZONE
TZID:Europe/Andorra
BEGIN:DAYLIGHT
TZOFFSETFROM:+0100
TZOFFSETTO:+0200
TZNAME:CEST
DTSTART:20070325T010000
END:DAYLIGHT
BEGIN:STANDARD
TZOFFSETFROM:+0200
TZOFFSETTO:+0100
TZNAME:CET
DTSTART:20071028T010000
END:STANDARD
END:VTIMEZONE
BEGIN:VEVENT
DTSTART;TZID=Europe/Andorra:20070926T193000
DTEND;TZID=Europe/Andorra:20070926T193000
DTSTAMP:20260420T223126
CREATED:20200729T181518Z
LAST-MODIFIED:20251207T194806Z
UID:12366-1190835000-1190835000@octubre.cat
SUMMARY:Un viatge pel temps: el quartet de corda
DESCRIPTION:Components:\n–PATRICIA GENÍS\, violí\n–ANA REQUENA\, violí\n–MIQUEL FALOMIR\, viola\n–ROSA GIL\, violoncel
URL:https://octubre.cat/activitat/un-viatge-pel-temps-el-quartet-de-corda/
LOCATION:No definit
CATEGORIES:Cicle de Música de Cambra
ATTACH;FMTTYPE=image/jpeg:https://octubre.cat/www/wp-content/uploads/2020/07/musica1.jpg
END:VEVENT
END:VCALENDAR