BEGIN:VCALENDAR
VERSION:2.0
PRODID:-//Octubre Centre de Cultura Contemporània - ECPv5.1.6//NONSGML v1.0//EN
CALSCALE:GREGORIAN
METHOD:PUBLISH
X-WR-CALNAME:Octubre Centre de Cultura Contemporània
X-ORIGINAL-URL:https://octubre.cat
X-WR-CALDESC:Events for Octubre Centre de Cultura Contemporània
BEGIN:VTIMEZONE
TZID:Europe/Andorra
BEGIN:DAYLIGHT
TZOFFSETFROM:+0100
TZOFFSETTO:+0200
TZNAME:CEST
DTSTART:20080330T010000
END:DAYLIGHT
BEGIN:STANDARD
TZOFFSETFROM:+0200
TZOFFSETTO:+0100
TZNAME:CET
DTSTART:20081026T010000
END:STANDARD
END:VTIMEZONE
BEGIN:VEVENT
DTSTART;TZID=Europe/Andorra:20080528T193000
DTEND;TZID=Europe/Andorra:20080528T193000
DTSTAMP:20260420T210109
CREATED:20200729T181522Z
LAST-MODIFIED:20200730T035455Z
UID:12370-1212003000-1212003000@octubre.cat
SUMMARY:Un viatge pel temps: el quartet de corda
DESCRIPTION:Dimecres 28\, 19.30h Obres de Beethoven i Schubert  \n  \n  \n\n LUDWIG VAN BEETHOVEN (1770-1827)  Quartet Nº4 en Do menor\, Op.18    Allegro ma non tanto   Andante scherzoso quasi Allegretto   Menuetto (Allegretto) – Trio   Allegro   FRANZ SCHUBERT (1797-1828)  Quartet Nº14 en Re menor D.810 “La Mort i la Donzella”    Allegro   Andante con moto   Scherzo (Allegro molto) – Trio   Presto
URL:https://octubre.cat/activitat/un-viatge-pel-temps-el-quartet-de-corda-5/
LOCATION:No definit
CATEGORIES:Cicle de Música de Cambra
ATTACH;FMTTYPE=image/jpeg:https://octubre.cat/www/wp-content/uploads/2020/07/musica1.jpg
END:VEVENT
END:VCALENDAR