BEGIN:VCALENDAR
VERSION:2.0
PRODID:-//Octubre Centre de Cultura Contemporània - ECPv5.1.6//NONSGML v1.0//EN
CALSCALE:GREGORIAN
METHOD:PUBLISH
X-WR-CALNAME:Octubre Centre de Cultura Contemporània
X-ORIGINAL-URL:https://octubre.cat
X-WR-CALDESC:Events for Octubre Centre de Cultura Contemporània
BEGIN:VTIMEZONE
TZID:Europe/Andorra
BEGIN:DAYLIGHT
TZOFFSETFROM:+0100
TZOFFSETTO:+0200
TZNAME:CEST
DTSTART:20080330T010000
END:DAYLIGHT
BEGIN:STANDARD
TZOFFSETFROM:+0200
TZOFFSETTO:+0100
TZNAME:CET
DTSTART:20081026T010000
END:STANDARD
END:VTIMEZONE
BEGIN:VEVENT
DTSTART;TZID=Europe/Andorra:20080326T193000
DTEND;TZID=Europe/Andorra:20080326T193000
DTSTAMP:20260421T000350
CREATED:20200729T181521Z
LAST-MODIFIED:20200730T035454Z
UID:12369-1206559800-1206559800@octubre.cat
SUMMARY:Un viatge pel temps: el quartet de corda
DESCRIPTION:Dimecres 26\, 19.30h.  \n  \n  \n\n-Quartet Número 19 en Do major KV 465\, Les dissonàncies\, de W. A. Mozart (1756-1791)  -Quartet Número 1 Op. 18 en Fa major\, de L. V. Beethoven (1770-1827)
URL:https://octubre.cat/activitat/un-viatge-pel-temps-el-quartet-de-corda-4/
LOCATION:No definit
CATEGORIES:Cicle de Música de Cambra
ATTACH;FMTTYPE=image/jpeg:https://octubre.cat/www/wp-content/uploads/2020/07/musica1.jpg
END:VEVENT
END:VCALENDAR