BEGIN:VCALENDAR
VERSION:2.0
PRODID:-//Octubre Centre de Cultura Contemporània - ECPv5.1.6//NONSGML v1.0//EN
CALSCALE:GREGORIAN
METHOD:PUBLISH
X-WR-CALNAME:Octubre Centre de Cultura Contemporània
X-ORIGINAL-URL:https://octubre.cat
X-WR-CALDESC:Events for Octubre Centre de Cultura Contemporània
BEGIN:VTIMEZONE
TZID:Europe/Andorra
BEGIN:DAYLIGHT
TZOFFSETFROM:+0100
TZOFFSETTO:+0200
TZNAME:CEST
DTSTART:20070325T010000
END:DAYLIGHT
BEGIN:STANDARD
TZOFFSETFROM:+0200
TZOFFSETTO:+0100
TZNAME:CET
DTSTART:20071028T010000
END:STANDARD
END:VTIMEZONE
BEGIN:VEVENT
DTSTART;TZID=Europe/Andorra:20071107T190000
DTEND;TZID=Europe/Andorra:20071107T190000
DTSTAMP:20260420T181504
CREATED:20200729T181453Z
LAST-MODIFIED:20260106T190348Z
UID:12341-1194462000-1194462000@octubre.cat
SUMMARY:Vicent J. Martínez: Un univers sense principis
DESCRIPTION:Un univers sensse principis. Està l’univers dissenyat per a la vida\, o som una casualitat? Té validesa el principi antròpic? \nA càrrec de Vicent J. Martínez\, director de l’Observatori Astronòmic de la Universitat de València\, investigador i professor titular d’aquesta universitat. És membre fundador de la Societat Espanyola d’Astronomia i de la Xarxa Europea de Cosmologia. Autor de nombrosos llibres\, va rebre el Premi Europeu de Divulgació Científica Estudi General pel seu llibre Mariners que solquen el cel\, així com el Premi Eduard Fontserè de l’Institut d’Estudis Catalans per la seua tesi doctoral. \n—\nAquesta conferència forma part del cicle “Estem sols a l’univers?” organitzat per l’Espai Ciència de l’Octubre CCC
URL:https://octubre.cat/activitat/un-univers-sense-principis/
LOCATION:No definit
CATEGORIES:Espai Ciència
ATTACH;FMTTYPE=image/jpeg:https://octubre.cat/www/wp-content/uploads/2020/07/espaiciencia1.jpg
END:VEVENT
END:VCALENDAR