BEGIN:VCALENDAR
VERSION:2.0
PRODID:-//Octubre Centre de Cultura Contemporània - ECPv5.1.6//NONSGML v1.0//EN
CALSCALE:GREGORIAN
METHOD:PUBLISH
X-WR-CALNAME:Octubre Centre de Cultura Contemporània
X-ORIGINAL-URL:https://octubre.cat
X-WR-CALDESC:Events for Octubre Centre de Cultura Contemporània
BEGIN:VTIMEZONE
TZID:Europe/Andorra
BEGIN:DAYLIGHT
TZOFFSETFROM:+0100
TZOFFSETTO:+0200
TZNAME:CEST
DTSTART:20130331T010000
END:DAYLIGHT
BEGIN:STANDARD
TZOFFSETFROM:+0200
TZOFFSETTO:+0100
TZNAME:CET
DTSTART:20131027T010000
END:STANDARD
END:VTIMEZONE
BEGIN:VEVENT
DTSTART;TZID=Europe/Andorra:20131216T190000
DTEND;TZID=Europe/Andorra:20131216T190000
DTSTAMP:20260423T014940
CREATED:20200729T170257Z
LAST-MODIFIED:20200729T184313Z
UID:9667-1387220400-1387220400@octubre.cat
SUMMARY:Un nou sistema financer
DESCRIPTION:Dilluns 16 de desembre a les 19.00h. Debat “Un nou sistema financer per a un nou model productiu valencià” organitzat per la coalició Compromís  \n  \n  \n\n Un nou sistema financer per a un nou model productiu valencià  Com hem arribat fins ací? Per què hem perdut les caixes d’estalvi valencianes? Com afecta la desaparició del sistema financer valencià en el teixit productiu de la nostra terra? Què es pot fer de cara al futur? Com haurien de ser les entitats financeres? Vine a la xarrada organitzada per la Sectorial d’Economia de Compromís i ajuda’ns a imaginar el sistema financer que necessitem per a un nou model productiu al nostre país.  Amb la participació de: – Rafael Beneyto\, analista financer – Joan R. Sanchis\, autor de La banca que necesitamos – Fran Ferri\, diputat de Coalició Compromís  Organitzat per la Sectorial d’Economia de Compromís
URL:https://octubre.cat/activitat/un-nou-sistema-financer/
CATEGORIES:Conferències i congressos
ATTACH;FMTTYPE=image/jpeg:https://octubre.cat/www/wp-content/uploads/2020/07/activitat1958.jpg
END:VEVENT
END:VCALENDAR