BEGIN:VCALENDAR
VERSION:2.0
PRODID:-//Octubre Centre de Cultura Contemporània - ECPv5.1.6//NONSGML v1.0//EN
CALSCALE:GREGORIAN
METHOD:PUBLISH
X-WR-CALNAME:Octubre Centre de Cultura Contemporània
X-ORIGINAL-URL:https://octubre.cat
X-WR-CALDESC:Events for Octubre Centre de Cultura Contemporània
BEGIN:VTIMEZONE
TZID:Europe/Andorra
BEGIN:DAYLIGHT
TZOFFSETFROM:+0100
TZOFFSETTO:+0200
TZNAME:CEST
DTSTART:20150329T010000
END:DAYLIGHT
BEGIN:STANDARD
TZOFFSETFROM:+0200
TZOFFSETTO:+0100
TZNAME:CET
DTSTART:20151025T010000
END:STANDARD
END:VTIMEZONE
BEGIN:VEVENT
DTSTART;TZID=Europe/Andorra:20150617T190000
DTEND;TZID=Europe/Andorra:20150617T190000
DTSTAMP:20260422T013951
CREATED:20200729T171017Z
LAST-MODIFIED:20200730T041421Z
UID:10132-1434567600-1434567600@octubre.cat
SUMMARY:'Un berenar a Ginebra'\, de Ventura Pons
DESCRIPTION:Dimecres 6 de maig a les 19.00h. Projecció inclosa dins del cicle de cinema social. Entrada lliure.  \n  \n  \n\n L’any 1973\, a les darreries del franquisme\, Mercè Rodoreda coincideix a Ginebra amb el crític literari i editor Josep Maria Castellet i el convida a berenar a casa seva. L’escriptora\, certament un personatge recòndit\, guardava el secret de tot allò que la concernia; s’havia convertit ella mateixa en secret o\, potser\, fins i tot\, en productora de secrets. Però\, aquella tarda\, estranyament\, s’obrí i en compartí molts.  Direcció: Ventura Pons (2013) Guió: Ventura Pons a partir de les memòries de Josep M. Castellet Intèrprets: Vicky Peña\, Joan Carreras\, Óscar Intente\, Cristina Plazas\, Òscar Ragadan Música: Albert Guinovart Fotografia: Sergi Gallardo Producció: Els Films de la Rambla SA i Televisió de Catalunya Durada: 90 minuts  Entrada lliure Organitzat amb la col·laboració d’El Cine Social Coordinació del cicle: Antonio Lloréns
URL:https://octubre.cat/activitat/un-berenar-a-ginebra-de-ventura-pons/
LOCATION:Sala d’actes
CATEGORIES:Segon cicle de cinema social
ATTACH;FMTTYPE=image/jpeg:https://octubre.cat/www/wp-content/uploads/2020/07/activitat2302.jpg
END:VEVENT
END:VCALENDAR