BEGIN:VCALENDAR
VERSION:2.0
PRODID:-//Octubre Centre de Cultura Contemporània - ECPv5.1.6//NONSGML v1.0//EN
CALSCALE:GREGORIAN
METHOD:PUBLISH
X-WR-CALNAME:Octubre Centre de Cultura Contemporània
X-ORIGINAL-URL:https://octubre.cat
X-WR-CALDESC:Events for Octubre Centre de Cultura Contemporània
BEGIN:VTIMEZONE
TZID:Europe/Andorra
BEGIN:DAYLIGHT
TZOFFSETFROM:+0100
TZOFFSETTO:+0200
TZNAME:CEST
DTSTART:20130331T010000
END:DAYLIGHT
BEGIN:STANDARD
TZOFFSETFROM:+0200
TZOFFSETTO:+0100
TZNAME:CET
DTSTART:20131027T010000
END:STANDARD
END:VTIMEZONE
BEGIN:VEVENT
DTSTART;TZID=Europe/Andorra:20130520T190000
DTEND;TZID=Europe/Andorra:20130520T190000
DTSTAMP:20260422T053941
CREATED:20200729T170034Z
LAST-MODIFIED:20200729T184115Z
UID:9534-1369076400-1369076400@octubre.cat
SUMMARY:'Un año sin petróleo'\, de John Webster
DESCRIPTION:Dilluns 20 de maig a les 19.00h: projecció del documental ‘Katastrofin aineksia / Un año sin petróleo’\, de John Webster. Organitzat per Ecologistes en Acció de València  \n  \n  \n\n Versió en espanyol Katastrofin Aineksia / Recipes for disaster Finlàndia 2008 Direcció i guió de John Webster  ¿És possible viure tot un any sense emprar productes que continguen algun derivat del petroli? El director d’aquest documental\, que va aconseguir convéncer la seua família per fer-ne la prova\, relata de forma divertida el que suposa sotmetre’s a una “dieta sense petroli” i mostra com pràcticament tot el que consumim prové del petroli\, l’agent que provoca el deteriorament més gran del nostre planeta.  Organitzat per Ecologistes en Acció de València Entrada lliure
URL:https://octubre.cat/activitat/un-ano-sin-petroleo-de-john-webster/
LOCATION:Sala d’actes
CATEGORIES:Cinema
ATTACH;FMTTYPE=image/jpeg:https://octubre.cat/www/wp-content/uploads/2020/07/activitat1790.jpg
END:VEVENT
END:VCALENDAR