BEGIN:VCALENDAR
VERSION:2.0
PRODID:-//Octubre Centre de Cultura Contemporània - ECPv5.1.6//NONSGML v1.0//EN
CALSCALE:GREGORIAN
METHOD:PUBLISH
X-WR-CALNAME:Octubre Centre de Cultura Contemporània
X-ORIGINAL-URL:https://octubre.cat
X-WR-CALDESC:Events for Octubre Centre de Cultura Contemporània
BEGIN:VTIMEZONE
TZID:Europe/Andorra
BEGIN:DAYLIGHT
TZOFFSETFROM:+0100
TZOFFSETTO:+0200
TZNAME:CEST
DTSTART:20170326T010000
END:DAYLIGHT
BEGIN:STANDARD
TZOFFSETFROM:+0200
TZOFFSETTO:+0100
TZNAME:CET
DTSTART:20171029T010000
END:STANDARD
END:VTIMEZONE
BEGIN:VEVENT
DTSTART;TZID=Europe/Andorra:20170505T193000
DTEND;TZID=Europe/Andorra:20170505T193000
DTSTAMP:20260421T134638
CREATED:20200729T172601Z
LAST-MODIFIED:20200729T185830Z
UID:11141-1494012600-1494012600@octubre.cat
SUMMARY:TV3 i IB3: balanç de l'experiència\, vies de futur i col·laboració entre televisions
DESCRIPTION:Divendres 5 de maig a les 19.30h. Conversa amb Vicent Sanchis (director de TV3) i Andreu Manresa (director d’IB3). Inclou sopar posterior (opcional).  \n  \n  \n\n Conversa amb: Vicent Sanchis\, director de TV3 Andreu Manresa\, director d’IB3   En acabar la conversa hi haurà sopar en el que cal reservar plaça al info@acpv.cat  Organitzat per ACPV amb la col·laboració de TV3 i IB3
URL:https://octubre.cat/activitat/tv3-i-ib3-balanc-de-lexperiencia-vies-de-futur-i-collaboracio-entre-televisions/
LOCATION:No definit
CATEGORIES:Conferències i congressos
ATTACH;FMTTYPE=image/jpeg:https://octubre.cat/www/wp-content/uploads/2020/07/activitat2832.jpg
END:VEVENT
END:VCALENDAR