BEGIN:VCALENDAR
VERSION:2.0
PRODID:-//Octubre Centre de Cultura Contemporània - ECPv5.1.6//NONSGML v1.0//EN
CALSCALE:GREGORIAN
METHOD:PUBLISH
X-WR-CALNAME:Octubre Centre de Cultura Contemporània
X-ORIGINAL-URL:https://octubre.cat
X-WR-CALDESC:Events for Octubre Centre de Cultura Contemporània
BEGIN:VTIMEZONE
TZID:Europe/Andorra
BEGIN:DAYLIGHT
TZOFFSETFROM:+0100
TZOFFSETTO:+0200
TZNAME:CEST
DTSTART:20170326T010000
END:DAYLIGHT
BEGIN:STANDARD
TZOFFSETFROM:+0200
TZOFFSETTO:+0100
TZNAME:CET
DTSTART:20171029T010000
END:STANDARD
END:VTIMEZONE
BEGIN:VEVENT
DTSTART;TZID=Europe/Andorra:20170220T180000
DTEND;TZID=Europe/Andorra:20170220T180000
DTSTAMP:20260420T184411
CREATED:20200729T172420Z
LAST-MODIFIED:20200729T185745Z
UID:11030-1487613600-1487613600@octubre.cat
SUMMARY:Trobades i Converses amb Iniciativa
DESCRIPTION:Dilluns 20 de febrer a les 18.00h. Projecció del documental Nacido en Siria d’Hernán Zin i col·loqui posterior amb Mònica Oltra\, José Miguel Mayo i Lola Bañón. Organitzat per Iniciativa-València (Coalició Compromís). Entrada lliure.  \n  \n  \n\n 18.00h: Projecció del documental Nacido en Siria d’Hernán Zin.  19.30h: Col·loqui amb Mònica Oltra (vicepresidenta de la Generalitat Valenciana) i José Miguel Mayo (voluntari en camps de refugiats). Moderat per Lola Bañón (corresponsal de RTVV a l’Orient Mitjà).  Organitzat per Iniciativa-València / Coalició Compromís.  Sinopsi del documental: El major èxode de refugiats des de la Segona Guerra Mundial vist a un metre i mig d’altura a través de set històries de guerra\, sofriment i desesperació… però també de superació\, innocència\, valor i esperança\, que ens permetran entendre què significa haver nascut a Síria.  Direcció i fotografia: Hernán Zin (2016) Guió: José F. Ortuño i Hernán Zin Producció: Contramedia Films / La Claqueta PC / Final Cut For Real Durada: 85’ Nominat com a millor documental dels Premis Goya 2016  — Entrada lliure
URL:https://octubre.cat/activitat/trobades-i-converses-amb-iniciativa/
LOCATION:Sala d’actes
CATEGORIES:Conferències i congressos
ATTACH;FMTTYPE=image/jpeg:https://octubre.cat/www/wp-content/uploads/2020/07/activitat2776.jpg
END:VEVENT
END:VCALENDAR