BEGIN:VCALENDAR
VERSION:2.0
PRODID:-//Octubre Centre de Cultura Contemporània - ECPv5.1.6//NONSGML v1.0//EN
CALSCALE:GREGORIAN
METHOD:PUBLISH
X-WR-CALNAME:Octubre Centre de Cultura Contemporània
X-ORIGINAL-URL:https://octubre.cat
X-WR-CALDESC:Events for Octubre Centre de Cultura Contemporània
BEGIN:VTIMEZONE
TZID:Europe/Andorra
BEGIN:DAYLIGHT
TZOFFSETFROM:+0100
TZOFFSETTO:+0200
TZNAME:CEST
DTSTART:20150329T010000
END:DAYLIGHT
BEGIN:STANDARD
TZOFFSETFROM:+0200
TZOFFSETTO:+0100
TZNAME:CET
DTSTART:20151025T010000
END:STANDARD
END:VTIMEZONE
BEGIN:VEVENT
DTSTART;TZID=Europe/Andorra:20151016T000000
DTEND;TZID=Europe/Andorra:20151017T000000
DTSTAMP:20260421T212627
CREATED:20200729T171321Z
LAST-MODIFIED:20200730T041539Z
UID:10325-1444953600-1445040000@octubre.cat
SUMMARY:Trobada europea de professors d'èuscar
DESCRIPTION:Divendres 16 i dissabte 17 d’octubre. Organitzada per Euskaltzaleok Valentzia i Laurak Bat amb la col·laboració d’ACPV.  \n  \n  \n\n Trobada anual que s’organitza des del Govern Basc i la xarxa HABE (d’euskaldunització). Cada any aquest esdeveniment té lloc en una ciutat europea\, organitzada per la euskal etxea resident en eixa ciutat. Enguany li toca el torn a València i estarà organitzada per Euskaltzaleok Valentzia i Laurak Bat\, amb la col·laboració d’Acció Cultural del País Valencià.  Seran presents els professors de les Euskal Etxea de: Londres\, Mallorca\, Berlin\, Brusel·les\, Madrid\, Barcelona\, Valladolid\, Paris i València. La persona responsable que dinamitzarà el curs és Kinku Zinkunegi\, responsable d’Euskara Munduan (Euskara al Món) del Govern Basc.  Assistència restringida als professors.
URL:https://octubre.cat/activitat/trobada-europea-de-professors-deuscar/
LOCATION:No definit
CATEGORIES:Conferències i congressos
ATTACH;FMTTYPE=image/jpeg:https://octubre.cat/www/wp-content/uploads/2020/07/activitat2407.jpg
END:VEVENT
END:VCALENDAR