BEGIN:VCALENDAR
VERSION:2.0
PRODID:-//Octubre Centre de Cultura Contemporània - ECPv5.1.6//NONSGML v1.0//EN
CALSCALE:GREGORIAN
METHOD:PUBLISH
X-WR-CALNAME:Octubre Centre de Cultura Contemporània
X-ORIGINAL-URL:https://octubre.cat
X-WR-CALDESC:Events for Octubre Centre de Cultura Contemporània
BEGIN:VTIMEZONE
TZID:Europe/Andorra
BEGIN:DAYLIGHT
TZOFFSETFROM:+0100
TZOFFSETTO:+0200
TZNAME:CEST
DTSTART:20180325T010000
END:DAYLIGHT
BEGIN:STANDARD
TZOFFSETFROM:+0200
TZOFFSETTO:+0100
TZNAME:CET
DTSTART:20181028T010000
END:STANDARD
END:VTIMEZONE
BEGIN:VEVENT
DTSTART;TZID=Europe/Andorra:20180326T190000
DTEND;TZID=Europe/Andorra:20180326T190000
DTSTAMP:20260421T144438
CREATED:20200729T190328Z
LAST-MODIFIED:20200729T190328Z
UID:13358-1522090800-1522090800@octubre.cat
SUMMARY:'¿Trileros del agua?'\, de Ricardo Gamaza
DESCRIPTION:Dilluns 26 de març a les 19.00h. Estrena a València del primer documental d’investigació periodística sobre la privatització de l’aigua\, presentat pel director. Projecció seguida d’un col·loqui. Organitzat per l’Associació Valenciana Enginyeria Sense Fronteres amb motiu del Dia Mundial de l’Aigua. Entrada lliure.  \n  \n  \n\n Estrena a València del primer documental d’investigació periodística sobre la privatització de l’aigua\, presentat pel director. Projecció seguida d’un col·loqui.  ¿Trileros del agua?\, treball pioner en el seu camp\, posa de manifest els diversos models de gestió de l’aigua al nostre país (pública\, mixta i privada) i les conseqüències que tenen aquestes per a la ciutadania. El documental busca desvetllar l’obscur món empresarial que hi ha al voltant de la gestió de l’aigua en productes que els proporcionen milions d’euros i\, al seu torn\, tracta també de visualitzar i donar la veu a l’altra cara d’aquesta moneda: les persones a les quals se’ls talla l’aigua o se’ls enganya per apujar-los el rebut\, i les organitzacions ciutadanes que es troben silenciades en els mitjans de comunicació\, que contribueixen a silenciar les crítiques contra els excessos de la gestió privada d’aquest recurs essencial per a la dignitat humana.  Ricardo Gamaza és un periodista independent que ha obtingut 19 premis de comunicació internacionals\, entre ells el Premio Dragona Iberia de la Fundación Iberoamericana Nueva Cultura del Agua\, el Premio Iberoamericano iAgua al millor documental de divulgació\, el premi Panda de Comunicació WWF-Espanya o el premi nacional Doñana Sostenible de Periodisme\, entre altres.  Direcció i guió: Ricardo Gamaza (2017) Realització i fotografia: Sandra D. Siachoque Equip d’investigació: Ricardo Gamaza\, Beatriz García Contreras i Alberto Otero Banda sonora: Úrsula Torres Realització: Ecoperiodismo Producció: Grup provincial Ganemos Jerez Web del documental  — Acte organitzat amb motiu del Dia Mundial de l’Aigua per l’Associació Valenciana d’Enginyeria sense Fronteres (ISFValència) amb la col·laboració de la Xarxa Valenciana per l’Aigua Pública i el suport de la Conselleria de Transparència\, Responsabilitat Social\, Participació i Cooperació de la Generalitat Valenciana i d’Acció Cultural del País Valencià.
URL:https://octubre.cat/activitat/trileros-del-agua-de-ricardo-gamaza/
LOCATION:Sala d’actes
CATEGORIES:Cinema
ATTACH;FMTTYPE=image/jpeg:https://octubre.cat/www/wp-content/uploads/2020/07/activitat2997.jpg
END:VEVENT
END:VCALENDAR