BEGIN:VCALENDAR
VERSION:2.0
PRODID:-//Octubre Centre de Cultura Contemporània - ECPv5.1.6//NONSGML v1.0//EN
CALSCALE:GREGORIAN
METHOD:PUBLISH
X-WR-CALNAME:Octubre Centre de Cultura Contemporània
X-ORIGINAL-URL:https://octubre.cat
X-WR-CALDESC:Events for Octubre Centre de Cultura Contemporània
BEGIN:VTIMEZONE
TZID:Europe/Andorra
BEGIN:DAYLIGHT
TZOFFSETFROM:+0100
TZOFFSETTO:+0200
TZNAME:CEST
DTSTART:20100328T010000
END:DAYLIGHT
BEGIN:STANDARD
TZOFFSETFROM:+0200
TZOFFSETTO:+0100
TZNAME:CET
DTSTART:20101031T010000
END:STANDARD
END:VTIMEZONE
BEGIN:VEVENT
DTSTART;TZID=Europe/Andorra:20100703T190000
DTEND;TZID=Europe/Andorra:20100703T190000
DTSTAMP:20260420T224915
CREATED:20200729T164737Z
LAST-MODIFIED:20200729T182810Z
UID:8737-1278183600-1278183600@octubre.cat
SUMMARY:Trànsits
DESCRIPTION:Degut a qüestions tècniques\, queda ajornada la darrera sessió del cicle de cinema\, per a la qual estava programada la presentació del projecte “Trànsits”\, de Miquel Àngel Baixauli i Ximo Rojo.   \n  \n  \n\nDebat amb la participació dels dos realitzadors\, Miquel Àngel Baixauli i Ximo Rojo i el protagonista Josep Lluís Peris.   El projecte Trànsits sorgeix d’una experiència de pedagogia cinematogràfica desenvolupada el 2004 en l’IES El Ravatxol de Castellar-l’Oliveral (València). A partir d’aquesta experiència\, es va consolidar el grup de treball Rizoma\, que duu a terme dues activitats en paral·lel: Correspondencias\, que és el projecte dedicat a la investigació sobre pedagogia cinematogràfica i la realització de llargmetratges\, el primer dels quals fou Temps d’aigua.   La proposta que clou aquest cicle de “Nous realitzadors valencians” es presenta com una experiència de filmació. Es projectaran antigues imatges filmades per a aquest projecte de pel·lícula (Trànsits) i es convidarà els adolescents que les protagonitzen per tal de gravar amb ells el debat que es genere amb el públic a partir del seu visionat.
URL:https://octubre.cat/activitat/transits/
LOCATION:No definit
CATEGORIES:entre la ficció i el documental,Nous realitzadors valencians
ATTACH;FMTTYPE=image/jpeg:https://octubre.cat/www/wp-content/uploads/2020/07/activitat1083.jpg
END:VEVENT
END:VCALENDAR