BEGIN:VCALENDAR
VERSION:2.0
PRODID:-//Octubre Centre de Cultura Contemporània - ECPv5.1.6//NONSGML v1.0//EN
CALSCALE:GREGORIAN
METHOD:PUBLISH
X-WR-CALNAME:Octubre Centre de Cultura Contemporània
X-ORIGINAL-URL:https://octubre.cat
X-WR-CALDESC:Events for Octubre Centre de Cultura Contemporània
BEGIN:VTIMEZONE
TZID:Europe/Andorra
BEGIN:DAYLIGHT
TZOFFSETFROM:+0100
TZOFFSETTO:+0200
TZNAME:CEST
DTSTART:20240331T010000
END:DAYLIGHT
BEGIN:STANDARD
TZOFFSETFROM:+0200
TZOFFSETTO:+0100
TZNAME:CET
DTSTART:20241027T010000
END:STANDARD
END:VTIMEZONE
BEGIN:VEVENT
DTSTART;TZID=Europe/Andorra:20241219T180000
DTEND;TZID=Europe/Andorra:20241219T180000
DTSTAMP:20260421T121346
CREATED:20241210T154846Z
LAST-MODIFIED:20250710T163205Z
UID:22064-1734631200-1734631200@octubre.cat
SUMMARY:Traduir Estellés
DESCRIPTION:Repassem la trajectòria internacional de Vicent Andrés Estellés amb alguns dels seus traductors a altres llengües. \n18.00h. Taula rodona amb Marc Granell\, Dominic Keown\, Ignasi Ripoll i Gianpiero Pelegi\, moderada per Lourdes Toledo. \n19.30h. Recital musicat «Primera Soledad» amb Neus Berenguer i Valentina Campajola. \n20.30h. Brindis de cloenda \n—\nOrganitzat pel PEN Català amb la col·laboració de l’Octubre CCC
URL:https://octubre.cat/activitat/traduir-estelles/
LOCATION:Hall
CATEGORIES:Cent d'Estellés
ATTACH;FMTTYPE=image/jpeg:https://octubre.cat/www/wp-content/uploads/2024/01/estelles-any.jpg
END:VEVENT
END:VCALENDAR