BEGIN:VCALENDAR
VERSION:2.0
PRODID:-//Octubre Centre de Cultura Contemporània - ECPv5.1.6//NONSGML v1.0//EN
CALSCALE:GREGORIAN
METHOD:PUBLISH
X-WR-CALNAME:Octubre Centre de Cultura Contemporània
X-ORIGINAL-URL:https://octubre.cat
X-WR-CALDESC:Events for Octubre Centre de Cultura Contemporània
BEGIN:VTIMEZONE
TZID:Europe/Andorra
BEGIN:DAYLIGHT
TZOFFSETFROM:+0100
TZOFFSETTO:+0200
TZNAME:CEST
DTSTART:20140330T010000
END:DAYLIGHT
BEGIN:STANDARD
TZOFFSETFROM:+0200
TZOFFSETTO:+0100
TZNAME:CET
DTSTART:20141026T010000
END:STANDARD
END:VTIMEZONE
BEGIN:VEVENT
DTSTART;TZID=Europe/Andorra:20141029T190000
DTEND;TZID=Europe/Andorra:20141029T190000
DTSTAMP:20260421T054810
CREATED:20200729T170724Z
LAST-MODIFIED:20200730T041244Z
UID:9945-1414609200-1414609200@octubre.cat
SUMMARY:Traduccions de la lusofonia al País Valencià
DESCRIPTION:Dimecres 29 d’octubre a les 19.00h. Lectura i col·loqui amb Vicent Berenguer\, Josep Ballester\, Ramon Guillem i Joan Navarro  \n  \n  \n\n Lectura i col·loqui amb Vicent Berenguer\, Josep Ballester\, Ramon Guillem i Joan Navarro  Sobre els autors i les obres:  Xosé Maria Álvarez Cáccamo\, Foc blanc (Bromera\, 1994\, trad. X.R. Trigo)  Xosé María Díaz Castro\, Nimbes (Denes\, 1997\, trad. V. Berenguer)  Ana Hatherly\, 51 tisanes (Perifèric\, 2005\, trad. X.R. Trigo-J. Cortés)  Cesáreo Sánchez Iglesias\, El rostre de la terra (Perifèric\, 2009\, trad. X.R. Trigo)  Orides Fontela\, Esfera: una antologia (Tres i Quatre\, 2010\, trad. J. Navarro)  Antônio Moura\, Després del diluvi i altres poemes (Edicions 96\, 2013\, trad. J. Navarro)  ​Majela Colares\, Margeando o caos / Vorejant el caos (Confraria do Vento\, 2013\, trad. J. Navarro)​
URL:https://octubre.cat/activitat/traduccions-de-la-lusofonia-al-pais-valencia/
LOCATION:Llibreria 3i4
CATEGORIES:Conferències i congressos
ATTACH;FMTTYPE=image/jpeg:https://octubre.cat/www/wp-content/uploads/2020/07/activitat2171.jpg
END:VEVENT
END:VCALENDAR