BEGIN:VCALENDAR
VERSION:2.0
PRODID:-//Octubre Centre de Cultura Contemporània - ECPv5.1.6//NONSGML v1.0//EN
CALSCALE:GREGORIAN
METHOD:PUBLISH
X-WR-CALNAME:Octubre Centre de Cultura Contemporània
X-ORIGINAL-URL:https://octubre.cat
X-WR-CALDESC:Events for Octubre Centre de Cultura Contemporània
BEGIN:VTIMEZONE
TZID:Europe/Andorra
BEGIN:DAYLIGHT
TZOFFSETFROM:+0100
TZOFFSETTO:+0200
TZNAME:CEST
DTSTART:20130331T010000
END:DAYLIGHT
BEGIN:STANDARD
TZOFFSETFROM:+0200
TZOFFSETTO:+0100
TZNAME:CET
DTSTART:20131027T010000
END:STANDARD
END:VTIMEZONE
BEGIN:VEVENT
DTSTART;TZID=Europe/Andorra:20130530T190000
DTEND;TZID=Europe/Andorra:20130530T190000
DTSTAMP:20260424T002820
CREATED:20200729T170033Z
LAST-MODIFIED:20200729T184115Z
UID:9533-1369940400-1369940400@octubre.cat
SUMMARY:'Toubab\, a Gàmbia no problem'\, de N. Bas i M. Martínez
DESCRIPTION:Dijous 30 de maig a les 19.00h: estrena del documental ‘Toubab\, a Gàmbia no problem’ de Natàlia Bas i Mercé Martínez  \n  \n  \n\n 10 dies\, 14 viatgers\, 1 destí: Kerrgallo. “Toubab\, a Gàmbia no problem” recull una manera de viatjar caracteritzada per l’intercanvi i el redescobriment al país conegut com “el somriure d’Àfrica”. Un film on l’espectador pot ser el viatger número 15 i reviure amb nosaltres aquesta experiència.  Toubab\, a Gàmbia no problem 2012\, 77 min. Direcció i guió: Natàlia Bas Micó i Mercé Martínez Tarrazona Música: Ugo Sánchez Mejia Entitats col·laboradores: Centre de Cooperació al Desenvolupament – Universitat Politècnica de València / Escola Politècnica Superior de Gandia / El Color de la Papaya – Mensajeros X Gambia / Ajuntament d’Ontinyent  Entrada lliure
URL:https://octubre.cat/activitat/toubab-a-gambia-no-problem-de-n-bas-i-m-martinez/
LOCATION:Sala d’actes
CATEGORIES:Cinema
ATTACH;FMTTYPE=image/jpeg:https://octubre.cat/www/wp-content/uploads/2020/07/activitat1789.jpg
END:VEVENT
END:VCALENDAR