BEGIN:VCALENDAR
VERSION:2.0
PRODID:-//Octubre Centre de Cultura Contemporània - ECPv5.1.6//NONSGML v1.0//EN
CALSCALE:GREGORIAN
METHOD:PUBLISH
X-WR-CALNAME:Octubre Centre de Cultura Contemporània
X-ORIGINAL-URL:https://octubre.cat
X-WR-CALDESC:Events for Octubre Centre de Cultura Contemporània
BEGIN:VTIMEZONE
TZID:Europe/Andorra
BEGIN:DAYLIGHT
TZOFFSETFROM:+0100
TZOFFSETTO:+0200
TZNAME:CEST
DTSTART:20140330T010000
END:DAYLIGHT
BEGIN:STANDARD
TZOFFSETFROM:+0200
TZOFFSETTO:+0100
TZNAME:CET
DTSTART:20141026T010000
END:STANDARD
END:VTIMEZONE
BEGIN:VEVENT
DTSTART;TZID=Europe/Andorra:20141119T190000
DTEND;TZID=Europe/Andorra:20141119T190000
DTSTAMP:20260421T054651
CREATED:20200729T170739Z
LAST-MODIFIED:20200902T155936Z
UID:9963-1416423600-1416423600@octubre.cat
SUMMARY:'Tots volem el millor per a ella'\, de Mar Coll
DESCRIPTION:Dimecres 19 de novembre a les 19.00h. Projecció presentada per la directora dins del cicle de cinema Barcelona Escenari  \n  \n  \n\n Projecció presentada i comentada per la directora  Un any després de patir un terrible accident de trànsit\, la Geni (Nora Navas) està llesta per a reprendre la seva vida… o almenys és així com ho vol veure la seva família. El cert és que malgrat el seu esforç\, la Geni se sent incapaç de complaure tothom: la vida que portava abans de l’accident ja no té cap interès per a ella\, per què reprendre-la aleshores? El desconcert que li produeix aquesta evidencia dóna pas a un comportament cada vegada més erràtic i a una única idea que comença a créixer dins seu: fugir.  Direcció: Mar Coll (2013) Durada: 120′ Guió: Mar Coll i Valentina Viso Intèrprets: Nora Navas\, Pau Durà\, Valeria Bertuccelli\, Àgata Roca\, Clara Segura Premi Gaudí i Premi Goya a la millor actriu (Nora Navas)  — Cicle organitzat per l’Octubre CCC amb el patrocini de l’Institut de Cultura de Barcelona (ICUB). Col·labora: Mostra Viva Director del cicle: Antonio Llorens Entrada lliure
URL:https://octubre.cat/activitat/tots-volem-el-millor-per-a-ella-de-mar-coll/
LOCATION:Sala d’actes
CATEGORIES:Barcelona Escenari 2014 (cinema),Cinema
ATTACH;FMTTYPE=image/jpeg:https://octubre.cat/www/wp-content/uploads/2020/07/activitat2179.jpg
END:VEVENT
END:VCALENDAR