BEGIN:VCALENDAR
VERSION:2.0
PRODID:-//Octubre Centre de Cultura Contemporània - ECPv5.1.6//NONSGML v1.0//EN
CALSCALE:GREGORIAN
METHOD:PUBLISH
X-WR-CALNAME:Octubre Centre de Cultura Contemporània
X-ORIGINAL-URL:https://octubre.cat
X-WR-CALDESC:Events for Octubre Centre de Cultura Contemporània
BEGIN:VTIMEZONE
TZID:Europe/Andorra
BEGIN:DAYLIGHT
TZOFFSETFROM:+0100
TZOFFSETTO:+0200
TZNAME:CEST
DTSTART:20090329T010000
END:DAYLIGHT
BEGIN:STANDARD
TZOFFSETFROM:+0200
TZOFFSETTO:+0100
TZNAME:CET
DTSTART:20091025T010000
END:STANDARD
END:VTIMEZONE
BEGIN:VEVENT
DTSTART;TZID=Europe/Andorra:20090604T200000
DTEND;TZID=Europe/Andorra:20090604T200000
DTSTAMP:20260420T232709
CREATED:20200729T182509Z
LAST-MODIFIED:20200729T182509Z
UID:12861-1244145600-1244145600@octubre.cat
SUMMARY:Tortel
DESCRIPTION:Dijous 4 de juny a les 20.00h: Tortel  \n  \n  \n\nJorge Pérez (Ciudadano) i Joaquín Pascual (Travolta) han decidit compartir els seus coneixements\, savoir faire i talent per a posar en funcionament plegats aquest projecte anomenat Tortel\, que és una intensa celebració de pop lluminós i minimalista.   La suavitat és una constant en les melodies que semblen bressolar unes lletres molt acurades i que expressen sentiments a flor de pell. A Jorge i Joaquín els acompanya en els cors i el violí Ana Galletero\, companya del segon a Travolta. De moment\, el projecte encara no s’ha plasmat en un disc d’estudi\, ja que es va encetar l’any passat\, i sols poden escoltar-se alguns temes en el seu MySpace.
URL:https://octubre.cat/activitat/tortel/
LOCATION:No definit
CATEGORIES:Cicle de música pop
ATTACH;FMTTYPE=image/png:https://octubre.cat/www/wp-content/uploads/2020/07/activitat891.png
END:VEVENT
END:VCALENDAR