BEGIN:VCALENDAR
VERSION:2.0
PRODID:-//Octubre Centre de Cultura Contemporània - ECPv5.1.6//NONSGML v1.0//EN
CALSCALE:GREGORIAN
METHOD:PUBLISH
X-WR-CALNAME:Octubre Centre de Cultura Contemporània
X-ORIGINAL-URL:https://octubre.cat
X-WR-CALDESC:Events for Octubre Centre de Cultura Contemporània
BEGIN:VTIMEZONE
TZID:Europe/Andorra
BEGIN:DAYLIGHT
TZOFFSETFROM:+0100
TZOFFSETTO:+0200
TZNAME:CEST
DTSTART:20140330T010000
END:DAYLIGHT
BEGIN:STANDARD
TZOFFSETFROM:+0200
TZOFFSETTO:+0100
TZNAME:CET
DTSTART:20141026T010000
END:STANDARD
END:VTIMEZONE
BEGIN:VEVENT
DTSTART;TZID=Europe/Andorra:20140620T000000
DTEND;TZID=Europe/Andorra:20140724T000000
DTSTAMP:20260421T074029
CREATED:20200729T170524Z
LAST-MODIFIED:20200831T162343Z
UID:9814-1403222400-1406160000@octubre.cat
SUMMARY:Tomàs Ferrándiz: 'Temps de guerra (1936-1939)'
DESCRIPTION:Inauguració: divendres 20 de juny a les 20.00h \nQuan semblava que ja no hi havia lloc per a les sorpreses en la història de l’art\, sorgeix\, impensada\, la figura d’un artista fins ara més rar que secret\, la qual cosa representa una inesperada recuperació. Ha estat llarga la nòmina dels que\, després d’una activitat brillant en els anys de plata avantguardistes\, convertits després en acer bèl·lic\, han travessat\, ells i les seues obres\, durant dècades\, un desert de desatenció\, si no d’oblit. No obstant això\, ara\, comptem amb un de “nou”\, amb un altre artista recuperat dels anys de la Guerra Civil: l’escultor i dibuixant alcoià Tomàs Ferrándiz Llopis (Alcoi 1914 – Madrid 2010)\, del qual\, fins ara\, només se sabien un parell de coses d’aquella època: que havia il·lustrat el mític\, introbable llibre de Versos en la guerra publicat a Alacant el 1938 (amb poemes de Miguel Hernández) i que havia participat en el pavelló de la República en l’Exposició Internacional de París de 1937\, conjuntament amb Pablo Picasso\, Josep Renau\, Joan Miró\, Juli González\, Alexander Calder\, Alberto\, etc. Precisament\, la seua obra Clamor de guerra es conserva actualment -a l’ombra del Gernika– al Reina Sofía de Madrid. Però ara\, de la mà del galerista José de la Mano\, redescobridor de l’obra de guerra de Ferrándiz que havia estat ocultada fins a la seua mort\, comença a emergir\, en aquesta exposició\, no ja l’ombra que fins ara era Tomàs Ferrándiz\, sinó la figura de volum real d’un escultor i dibuixant de molta major entitat del que es podia apreciar a primera vista. \nL’exposició inclou pintures\, esbossos per a cartells de guerra\, esbossos de Clamor de guerra\, retrats d’intel·lectuals alcoians (com ara el poeta Joan Valls)\, escenes de guerra\, il·lustracions per a premsa\, etc. \nExposició organitzada per l’Octubre CCC i la Llotja de Sant Jordi (Ajuntament d’Alcoi)\nDirecció tècnica: Antoni Miró\nCoordinació: Francesc Agulló\nCol·laboren: Galeria José de la Mano\, Museu de la Universitat d’Alacant i Ajuntament d’Alcoi
URL:https://octubre.cat/activitat/tomas-ferrandiz-temps-de-guerra-1936-1939/
LOCATION:Sala d’exposicions
CATEGORIES:Exposicions
ATTACH;FMTTYPE=image/jpeg:https://octubre.cat/www/wp-content/uploads/2020/07/activitat2100.jpg
END:VEVENT
END:VCALENDAR