BEGIN:VCALENDAR
VERSION:2.0
PRODID:-//Octubre Centre de Cultura Contemporània - ECPv5.1.6//NONSGML v1.0//EN
CALSCALE:GREGORIAN
METHOD:PUBLISH
X-WR-CALNAME:Octubre Centre de Cultura Contemporània
X-ORIGINAL-URL:https://octubre.cat
X-WR-CALDESC:Events for Octubre Centre de Cultura Contemporània
BEGIN:VTIMEZONE
TZID:Europe/Andorra
BEGIN:DAYLIGHT
TZOFFSETFROM:+0100
TZOFFSETTO:+0200
TZNAME:CEST
DTSTART:20110327T010000
END:DAYLIGHT
BEGIN:STANDARD
TZOFFSETFROM:+0200
TZOFFSETTO:+0100
TZNAME:CET
DTSTART:20111030T010000
END:STANDARD
END:VTIMEZONE
BEGIN:VEVENT
DTSTART;TZID=Europe/Andorra:20110929T190000
DTEND;TZID=Europe/Andorra:20110929T190000
DTSTAMP:20260424T141026
CREATED:20200729T165607Z
LAST-MODIFIED:20200730T042850Z
UID:9271-1317322800-1317322800@octubre.cat
SUMMARY:Tocat per paraules\, seduït per imatges – El cos i la seducció a internet
DESCRIPTION:Dijous 29 de setembre\, a les 19.00h: conferència “Tocat per paraules\, seduït per imatges – El cos i la seducció a internet”\, a càrrec de Natàlia Cantó i Swen Seebach (UOC)  \n  \n  \n\nPer Natàlia Cantó i Swen Seebach  La comunicació electrònica ha assolit un paper central en les relacions socials contemporànies. No només per les qüestions més rutinàries\, quotidianes i laborals ens serveixen el correu electrònic i els SMS. Aquests també han esdevingut clau en les relacions més íntimes entre persones creant\, o cercant\, relacions amoroses\, vivint-les intensament o cercant diversió i intercanvi a través dels nous mitjans. El sexe en forma de paraula\, l’intercanvi d’imatges intimes\, i la transmissió de moments íntims per Internet té una gran importància per teixir un fil invisible de relació entre dues persones\, per seduir-se i seduir l’altre. Però què passa amb el cos si és presentat en forma d’una descripció escrita o transformat en una o moltes imatges. Encara hi és el cos? Ha desaparegut? S’ha transformat? I com es viure una relació sexual\, com es pot seduir i com es pot crear una situació seductora i íntima sense el cos que és la base de la seducció\, eròtica i sexualitat? Aquesta conferència intentarà seguir les pistes del cos\, transformat per seduir-se i per seduir l’altre\, en l’absència de la possibilitat de tocar-se. Parlarem doncs de les conseqüències de les transformacions de les relacions íntimes a través d’internet – pels cossos\, pels subjectes\, per les parelles.
URL:https://octubre.cat/activitat/tocat-per-paraules-seduit-per-imatges-el-cos-i-la-seduccio-a-internet/
LOCATION:No definit
CATEGORIES:Domesticant les tecnologies digitals
ATTACH;FMTTYPE=image/jpeg:https://octubre.cat/www/wp-content/uploads/2020/07/conferencia1.jpg
END:VEVENT
END:VCALENDAR