BEGIN:VCALENDAR
VERSION:2.0
PRODID:-//Octubre Centre de Cultura Contemporània - ECPv5.1.6//NONSGML v1.0//EN
CALSCALE:GREGORIAN
METHOD:PUBLISH
X-WR-CALNAME:Octubre Centre de Cultura Contemporània
X-ORIGINAL-URL:https://octubre.cat
X-WR-CALDESC:Events for Octubre Centre de Cultura Contemporània
BEGIN:VTIMEZONE
TZID:Europe/Andorra
BEGIN:DAYLIGHT
TZOFFSETFROM:+0100
TZOFFSETTO:+0200
TZNAME:CEST
DTSTART:20090329T010000
END:DAYLIGHT
BEGIN:STANDARD
TZOFFSETFROM:+0200
TZOFFSETTO:+0100
TZNAME:CET
DTSTART:20091025T010000
END:STANDARD
END:VTIMEZONE
BEGIN:VEVENT
DTSTART;TZID=Europe/Andorra:20091219T190000
DTEND;TZID=Europe/Andorra:20091219T190000
DTSTAMP:20260420T152726
CREATED:20200729T182640Z
LAST-MODIFIED:20200729T182640Z
UID:12946-1261249200-1261249200@octubre.cat
SUMMARY:Tiu + Eva Dénia
DESCRIPTION:Dissabte 19 de desembre\, a les 19.00h: Dialeg(tes). Actuació musical Tiu (Mallorca) + Eva Dénia (València).   \n  \n  \n\nDialeg(tes)  Amb Tiu i Eva Dénia\, inaugurem aquest cicle musical que es desenvoluparà dins de l’Espai Illes Balears amb la intenció d’establir un original intercanvi dialèg(tic) entre músics de les Illes i músics valencians.   Tiu és un grup de Mallorca format per Aníbal Ferrer\, percussió; Jaume Llodrà\, contrabaix; Jordi Tugores\, guitarra; i Tiu Herrero\, veu. Amb el seu primer treball discogràfic\, musicogastronomia (blau-discmedi 2008)\, Tiu ens va omplir de Mediterrani\, flors de sal\, fonoll i figues amb cançons com “es meus peus”\, “calipo” o “recepta”. Aquest quartet de guitarra\, contrabaix\, percussió i veu juga al plaer de fer música i cançons de somnis i gastronomia lligant tradició i costums amb modernitat. Amb el seu nou treball sopeta de brou (blau-discmedi 2009)\, Tiu ha desenvolupat la “nouvelle music”\,  un plat musical amb un so diferent\, cançons que van del rock and roll a la samba amb lletres cuinades i crues a gust de tothom. Bon profit!  Eva Dénia comença en el món de la música a principis dels 90 interpretant clàssics del jazz al costat d’alguns dels músics valencians més representatius del gènere. Aviat s’embarca en l’adaptació a la seua llengua d’alguns dels estàndards més populars. La fascinació per la música de Brasil i\, en especial\, pel compositor Antônio Carlos Jobim culmina el 2006 amb la publicació de Tribut a Jobim\, un treball que conté onze cançons versionades al valencià amb exquisits arranjaments musicals. Paral·lelament treballa amb el cançoner de Georges Brassens\, a qui dedica dos discos el 2005 i el 2008. La seua curiositat la condueix fins a la música tradicional valenciana\, i el seu afany per explorar altres llenguatges la porta a col·laborar amb Carles Dénia en un projecte que revisa alguns dels estils més característics del nostre patrimoni sonor.
URL:https://octubre.cat/activitat/tiu-eva-denia/
LOCATION:No definit
CATEGORIES:Dialeg(tes)
ATTACH;FMTTYPE=image/jpeg:https://octubre.cat/www/wp-content/uploads/2020/07/activitat980.jpg
END:VEVENT
END:VCALENDAR