BEGIN:VCALENDAR
VERSION:2.0
PRODID:-//Octubre Centre de Cultura Contemporània - ECPv5.1.6//NONSGML v1.0//EN
CALSCALE:GREGORIAN
METHOD:PUBLISH
X-WR-CALNAME:Octubre Centre de Cultura Contemporània
X-ORIGINAL-URL:https://octubre.cat
X-WR-CALDESC:Events for Octubre Centre de Cultura Contemporània
BEGIN:VTIMEZONE
TZID:Europe/Andorra
BEGIN:DAYLIGHT
TZOFFSETFROM:+0100
TZOFFSETTO:+0200
TZNAME:CEST
DTSTART:20080330T010000
END:DAYLIGHT
BEGIN:STANDARD
TZOFFSETFROM:+0200
TZOFFSETTO:+0100
TZNAME:CET
DTSTART:20081026T010000
END:STANDARD
END:VTIMEZONE
BEGIN:VEVENT
DTSTART;TZID=Europe/Andorra:20080611T190000
DTEND;TZID=Europe/Andorra:20080611T190000
DTSTAMP:20260421T111048
CREATED:20200729T181924Z
LAST-MODIFIED:20200828T175604Z
UID:12604-1213210800-1213210800@octubre.cat
SUMMARY:Tintín visita l'Octubre!!
DESCRIPTION:Dimecres 11\, 19h Visita a l’Octubre CCC de l’actor belga Jean-Pierre Talbot\, l’autèntic Tintín!! Signatura de llibres i projecció de pel·lícules. \n \n\nJean-Pierre Talbot és l’únic actor que ha interpretat Tintín al cinema. Procedent directament de Brussel·les\, el sr. Talbot visitarà l’Octubre CCC per signar exemplars dels àlbums de Tintín (és l’única persona autoritzada expressament per Hergé per poder siganr com “Tintín”) i també per presentar el seu llibre J’étais Tintin au cinéma… (Éditions Jourdan\, 2007). Posteriorment\, es projectarà el curt inèdit Tintin et la S.G.M.\, un curtmetratge publicitari protagotnitzat per Tintín i la resta dels personatges d’Hergé\, en estrena absoluta a València. I\, per acabar\, es projectarà també Tintín y las Naranjas Azules\, pel·lícula protagonitzada per Jean-Pierre Talbot i rodada durant la dècada dels seixanta a Gandia\, Xàtiva\, Bocairent\, Simat de Valldigna i altres poblacions valencianes. \nActivitat paral·lela de l’exposició “Tintín en el món d’Hergé. Col·lecció Jordi Tardà” que s’està exhibint a l’Octubre CCC. Durant els propers dies\, l’actor visitarà també les ciutats de Gandia i Burjassot\, escenaris de la seua pel·lícula.
URL:https://octubre.cat/activitat/tintin-visita-loctubre/
LOCATION:No definit
CATEGORIES:Exposicions,Literatura
ATTACH;FMTTYPE=image/jpeg:https://octubre.cat/www/wp-content/uploads/2020/07/activitat624.jpg
END:VEVENT
END:VCALENDAR