BEGIN:VCALENDAR
VERSION:2.0
PRODID:-//Octubre Centre de Cultura Contemporània - ECPv5.1.6//NONSGML v1.0//EN
CALSCALE:GREGORIAN
METHOD:PUBLISH
X-WR-CALNAME:Octubre Centre de Cultura Contemporània
X-ORIGINAL-URL:https://octubre.cat
X-WR-CALDESC:Events for Octubre Centre de Cultura Contemporània
BEGIN:VTIMEZONE
TZID:Europe/Andorra
BEGIN:DAYLIGHT
TZOFFSETFROM:+0100
TZOFFSETTO:+0200
TZNAME:CEST
DTSTART:20080330T010000
END:DAYLIGHT
BEGIN:STANDARD
TZOFFSETFROM:+0200
TZOFFSETTO:+0100
TZNAME:CET
DTSTART:20081026T010000
END:STANDARD
END:VTIMEZONE
BEGIN:VEVENT
DTSTART;TZID=Europe/Andorra:20080514T000000
DTEND;TZID=Europe/Andorra:20080831T000000
DTSTAMP:20260420T220326
CREATED:20200729T181843Z
LAST-MODIFIED:20200828T165436Z
UID:12562-1210723200-1220140800@octubre.cat
SUMMARY:Tintín en el món d'Hergé. Col·lecció Jordi Tardà
DESCRIPTION:Atenció: l’exposició ha estat prorrogada fins el diumenge 31 d’agost. \nInauguració: dimecres 14 de maig a les 20.00h amb\n—Jordi Tardà\, propietari de la col·lecció\n—Arcadi Calzada\, president de Caixa Girona \n“Tintín en el món d’Hergé” és una exposició organitzada conjuntament per l’Octubre CCC i la Fundació Caixa Girona que recull dibuixos\, fotografies\, llibres i altres originals al voltant del món del gran il·lustrador belga i de la seua creació més coneguda\, Tintin\, un dels personatges més universals de la història del còmic. Les creacions d’Hergé respiren dos elements bàsics per entendre l’art contemporani: el seu sentit transversal i la universalitat de la comunicació\, el fet que els lectors de qualsevol lloc del món es puguen identificar amb els seus personatges\, amb una trama on tan important és el que es diu com els suggeriments ocults. Tintin humanista\, científic\, polític\, escriptor\, artista\, aventurer\, navegant… Hi ha un Tintin per a cada lector i tots es troben en aquesta exposició\, bastida a partir d’elements absolutament originals de la col·lecció de Jordi Tardà. Després d’haver estat visitada per més de 125.000 persones a Girona i més de 225.000 a Madrid\, l’exposició didàctica TINTÍN EN EL MÓN D’HERGÉ – COL·LECCIÓ JORDI TARDÀ es presenta a València i es podrà visitar gratuïtament del 14 de maig fins el 27 de juliol. \nL’exposició consta de més de 400 objectes originals provinents de la col·lecció de Jordi Tardà\, perodista musical\, novel·lista i “hergeòleg”\, creador de les Fires del Disc i impulsor del futur Museu del Rock de Barcelona. L’exposició està dividida en dues parts: “L’obra principal: Tintín” i “L’altre univers d’Hergé”. En la primera es repassa cronològicament la creació del personatge de Tintin (incloent-hi els inèdits “Tintin i Thermozero” i “Dupond et Dupont Detectives”\, els llibres que consultà Hergè\, maquetes\, les publicacions prèvies\, les edicions originals o el llibre dedicat al rei Balduí o el signat pels astronautes de l’Apollo XI\, etc). En la segona part s’estudia l’univers d’Hergé com a dibuixant i publicista\, portadista de llibres\, postals\, cartes als lectors… \n \nA més a més\, l’exposició estrena a València peces que mai no han estat exposades anteriorment\, com per exemple:\n—Primer treball d’Hergé per a l’Estat Espanyol: el 1958 va voler dibuixar personalment el títol del primer llibre publicat aquí\, “El Ceptre d’Ottokar”\n—El llibre que Hergé utilitzà per a crear el vaixell de “El secret de l’Unicorni” (l’original\, el que va consultar el propi Hergé)\n—Els dibuixos preparatoris per a “Tintin al Tíbet”\, esboços\, anotacions\, estudis dels personatges…\n—Els dibuixos a llapis per a “Tintin i els Pícaros”\, els que refusà\, els que anaren a parar a la brossa …rescatats ara en exclusiva per a València\n—Els retrats de la seua primera dona\, Germaine Kieckens\, a llapis i aquarel·la\, de caràcter absolutament familiar\, mai no vistos en públic.
URL:https://octubre.cat/activitat/tintin-en-el-mon-dherge-colleccio-jordi-tarda/
LOCATION:No definit
CATEGORIES:Exposicions
ATTACH;FMTTYPE=image/jpeg:https://octubre.cat/www/wp-content/uploads/2020/07/activitat580.jpg
END:VEVENT
END:VCALENDAR