BEGIN:VCALENDAR
VERSION:2.0
PRODID:-//Octubre Centre de Cultura Contemporània - ECPv5.1.6//NONSGML v1.0//EN
CALSCALE:GREGORIAN
METHOD:PUBLISH
X-WR-CALNAME:Octubre Centre de Cultura Contemporània
X-ORIGINAL-URL:https://octubre.cat
X-WR-CALDESC:Events for Octubre Centre de Cultura Contemporània
BEGIN:VTIMEZONE
TZID:Europe/Andorra
BEGIN:DAYLIGHT
TZOFFSETFROM:+0100
TZOFFSETTO:+0200
TZNAME:CEST
DTSTART:20100328T010000
END:DAYLIGHT
BEGIN:STANDARD
TZOFFSETFROM:+0200
TZOFFSETTO:+0100
TZNAME:CET
DTSTART:20101031T010000
END:STANDARD
END:VTIMEZONE
BEGIN:VEVENT
DTSTART;TZID=Europe/Andorra:20100507T230000
DTEND;TZID=Europe/Andorra:20100507T230000
DTSTAMP:20260420T164050
CREATED:20200729T164910Z
LAST-MODIFIED:20200730T042450Z
UID:8830-1273273200-1273273200@octubre.cat
SUMMARY:Thomas Tilly / Tô (FR)
DESCRIPTION:Divendres 7 de maig\, a les 23.00h: Thomas Tilly / Tô (FR). Dins del Festival Observatori 2010.   \n  \n  \n\nArtista\, compositor i músic autodidacta\, Thomas Tilly utilitza el micròfon com a instrument principal de treball. El 2001 va crear Tô\, el seu projecte en solitari de música concreta centrada en sons ambientals i en la manipulació d’objectes trobats. Des d’aquest punt de vista\, la composició d’un material sonor ha de ser considerada com a síntesi sonora d’un lloc en un període determinat. Aquest mètode requereix estar\, observar i estudiar els aspectes arquitectònics d’un lloc per a poder formular una interpretació personal. També es val d’aquestes metodologies en instal·lacions sonores que permeten desenvolupar i ampliar informació específica d’aquests espais. Ha publicat els seus treballs a segells com Cesare o la seua pròpia plataforma\, Fissür.   Aquesta actuació s’emmarca en el Festival Observatori 2010\, que tindrà lloc en diverses seus a la ciutat de València entre els dies 6 i 30 de maig.
URL:https://octubre.cat/activitat/thomas-tilly-to-fr/
LOCATION:No definit
CATEGORIES:Vibra
ATTACH;FMTTYPE=image/jpeg:https://octubre.cat/www/wp-content/uploads/2020/07/activitat1179.jpg
END:VEVENT
END:VCALENDAR