BEGIN:VCALENDAR
VERSION:2.0
PRODID:-//Octubre Centre de Cultura Contemporània - ECPv5.1.6//NONSGML v1.0//EN
CALSCALE:GREGORIAN
METHOD:PUBLISH
X-WR-CALNAME:Octubre Centre de Cultura Contemporània
X-ORIGINAL-URL:https://octubre.cat
X-WR-CALDESC:Events for Octubre Centre de Cultura Contemporània
BEGIN:VTIMEZONE
TZID:Europe/Andorra
BEGIN:DAYLIGHT
TZOFFSETFROM:+0100
TZOFFSETTO:+0200
TZNAME:CEST
DTSTART:20080330T010000
END:DAYLIGHT
BEGIN:STANDARD
TZOFFSETFROM:+0200
TZOFFSETTO:+0100
TZNAME:CET
DTSTART:20081026T010000
END:STANDARD
END:VTIMEZONE
BEGIN:VEVENT
DTSTART;TZID=Europe/Andorra:20080302T190000
DTEND;TZID=Europe/Andorra:20080302T190000
DTSTAMP:20260420T165719
CREATED:20200729T181741Z
LAST-MODIFIED:20200730T035639Z
UID:12502-1204484400-1204484400@octubre.cat
SUMMARY:The Zeeman Effect
DESCRIPTION:Diumenge 2\, 19.00h. Ernie Orts realitza els seus estudis superiors a l’estat espanyol i França. Ha tocat tant clàssica\, com jazz o música contemporània a llocs com Barcelona ( Auditori de Barcelona) o Madrid (Centro de Arte Reina Sofía ). Participa en el XI La Villette Jazz Festival Internacional (París)\, i toca a la Universitat Stroudsburg de Pennsylvania\, al Deer Head Club amb David Liebman i participa  en jam sessions als clubs Smalls i Smoke de Nova York.   Ha guanyat els premis següents: Primer Premi Pòdiums de Sant Joan de Vilatorrada\, Premi Especial de l’Associació Catalana de Compositors i el primer guardó\, dels Premis Tutto de Com Ràdio\, amb Afrodisax Quartet.   \n  \n  \n\nErnie Orts realitza els seus estudis superiors a l’estat espanyol i França. Ha tocat tant clàssica\, com jazz o música contemporània a llocs com Barcelona ( Auditori de Barcelona) o Madrid (Centro de Arte Reina Sofía ). Participa en el XI La Villette Jazz Festival Internacional (París)\, i toca a la Universitat Stroudsburg de Pennsylvania\, al Deer Head Club amb David Liebman i participa  en jam sessions als clubs Smalls i Smoke de Nova York.   Ha guanyat els premis següents: Primer Premi Pòdiums de Sant Joan de Vilatorrada\, Premi Especial de l’Associació Catalana de Compositors i el primer guardó\, dels Premis Tutto de Com Ràdio\, amb Afrodisax Quartet.   Enregistrant discos des de finals dels 90\, com El Pequeño Rugier (1996)\, Sax 13 (2001)\, Català Contemporani\, amb Afrodisax (2003)\, Fase.01 (2003)\, Aluap (2003)\, Música para saxofones (2005)\, Canya al ball (2005)\, The Zeemann Efect (2006)\, Espera que Camina (previst per al 2008).   Ha estat professor al Conservatori Sabadell des de 1999. Ha tocat i col·laborat amb Lucho Aguilar\, Óscar Acevedo\, Roger Mas\, Àlex Ventura\, Ignasi Zamora\, Luís Castaño\, Jordi Bonell\, Fèlix Serra\, Dani Llandrich\, Rubén Berengena\, David Gómez\, Chris Higgins\, David Mengual\, Emilio Solla\, Jo Krause\, Lucrecia\, Phil Markowitz\, Tony Merino\, Marcko Marcinko\, Evan Gregor\, Mike Stephens.
URL:https://octubre.cat/activitat/the-zeeman-effect/
LOCATION:No definit
CATEGORIES:Diumenges de Jazz!
ATTACH;FMTTYPE=image/jpeg:https://octubre.cat/www/wp-content/uploads/2020/07/musica1.jpg
END:VEVENT
END:VCALENDAR