BEGIN:VCALENDAR
VERSION:2.0
PRODID:-//Octubre Centre de Cultura Contemporània - ECPv5.1.6//NONSGML v1.0//EN
CALSCALE:GREGORIAN
METHOD:PUBLISH
X-WR-CALNAME:Octubre Centre de Cultura Contemporània
X-ORIGINAL-URL:https://octubre.cat
X-WR-CALDESC:Events for Octubre Centre de Cultura Contemporània
BEGIN:VTIMEZONE
TZID:Europe/Andorra
BEGIN:DAYLIGHT
TZOFFSETFROM:+0100
TZOFFSETTO:+0200
TZNAME:CEST
DTSTART:20100328T010000
END:DAYLIGHT
BEGIN:STANDARD
TZOFFSETFROM:+0200
TZOFFSETTO:+0100
TZNAME:CET
DTSTART:20101031T010000
END:STANDARD
END:VTIMEZONE
BEGIN:VEVENT
DTSTART;TZID=Europe/Andorra:20100606T190000
DTEND;TZID=Europe/Andorra:20100606T190000
DTSTAMP:20260421T025445
CREATED:20200729T164932Z
LAST-MODIFIED:20200730T042506Z
UID:8850-1275850800-1275850800@octubre.cat
SUMMARY:The Vibe Creators
DESCRIPTION:Diumenge 6 de juny\, a les 19.00h: The Vibe Creators (València).   \n  \n  \n\nThe Vibe Creators són una banda que abasta diversos estils de música negra\, amb el distintiu so dels 60 i els 70\, del soul jazz al funk passant pel rhythm & blues i el boogaloo. El resultat és un so elegant que combina a la perfecció el groove que imprimeix el Hammond amb el toc cool i brillant del vibrafon. A això cal unir una bateria de ritmes explosius i una poderosa veu femenina\, que recupera el soul de la vella escola. Componen temes propis\, però també fan versions de clàssics i rare grooves de l’era.   Formació:  Laurent Erdös\, vibrafonista i percussionista\, a més d’arreglista i compositor.  Sergio Albentosa\, organista i compositor.  Danilo Argenti\, baterista.  Layla Muñoz\, cantant i compositora.
URL:https://octubre.cat/activitat/the-vibe-creators/
LOCATION:No definit
CATEGORIES:Diumenges de Jazz!
ATTACH;FMTTYPE=image/jpeg:https://octubre.cat/www/wp-content/uploads/2020/07/activitat1199.jpg
END:VEVENT
END:VCALENDAR