BEGIN:VCALENDAR
VERSION:2.0
PRODID:-//Octubre Centre de Cultura Contemporània - ECPv5.1.6//NONSGML v1.0//EN
CALSCALE:GREGORIAN
METHOD:PUBLISH
X-WR-CALNAME:Octubre Centre de Cultura Contemporània
X-ORIGINAL-URL:https://octubre.cat
X-WR-CALDESC:Events for Octubre Centre de Cultura Contemporània
BEGIN:VTIMEZONE
TZID:Europe/Andorra
BEGIN:DAYLIGHT
TZOFFSETFROM:+0100
TZOFFSETTO:+0200
TZNAME:CEST
DTSTART:20090329T010000
END:DAYLIGHT
BEGIN:STANDARD
TZOFFSETFROM:+0200
TZOFFSETTO:+0100
TZNAME:CET
DTSTART:20091025T010000
END:STANDARD
END:VTIMEZONE
BEGIN:VEVENT
DTSTART;TZID=Europe/Andorra:20090514T200000
DTEND;TZID=Europe/Andorra:20090514T200000
DTSTAMP:20260420T120719
CREATED:20200729T182446Z
LAST-MODIFIED:20200729T182446Z
UID:12840-1242331200-1242331200@octubre.cat
SUMMARY:The Secret Society
DESCRIPTION:Dijous 14 de maig\, a les 20.00h: Actuació de The Secret Society (Madrid).   \n  \n  \n\nHan passat vora tres anys des que va veure la llum Sad Boys Dance When No One’s Watching\, primer disc de The Secret Society. Fou un treball important per a Pepo (única persona fixa darrere d’aquesta canviant societat) per molts motius: fou considerat el Millor Disc Nacional de 2005 per Go Mag; va aconseguir crítiques en mitjans internacionals com Rolling Stone\, Rif Raf\, Uncut o Les Inrockuptibles; féu milers de quilòmetres tocant sol o amb Andrés Perruca i Javier Vicente; va girar per mitja Europa; va compartir escenari amb importants bandes; va participar en festivals com el Primavera Sound o el FIB…  L’octubre de 2008\, The Secret Society presentava el seu segon àlbum: I Am Becoming What I Hate the Most. Deu cançons en tan sols 35 minuts. No és un disc fàcil. No és un disc de folk. No és un disc adult ni de confirmació. És un disc que va més enllà de les expectatives creades pel seu predecessor. És ràbia\, obscuritat\, pena\, dubte\, hivern i estiu. Impressiona trobar tants matisos en una obra tan breu.
URL:https://octubre.cat/activitat/the-secret-society/
LOCATION:No definit
CATEGORIES:Cicle de música pop
ATTACH;FMTTYPE=image/jpeg:https://octubre.cat/www/wp-content/uploads/2020/07/activitat869.jpg
END:VEVENT
END:VCALENDAR