BEGIN:VCALENDAR
VERSION:2.0
PRODID:-//Octubre Centre de Cultura Contemporània - ECPv5.1.6//NONSGML v1.0//EN
CALSCALE:GREGORIAN
METHOD:PUBLISH
X-WR-CALNAME:Octubre Centre de Cultura Contemporània
X-ORIGINAL-URL:https://octubre.cat
X-WR-CALDESC:Events for Octubre Centre de Cultura Contemporània
BEGIN:VTIMEZONE
TZID:Europe/Andorra
BEGIN:DAYLIGHT
TZOFFSETFROM:+0100
TZOFFSETTO:+0200
TZNAME:CEST
DTSTART:20100328T010000
END:DAYLIGHT
BEGIN:STANDARD
TZOFFSETFROM:+0200
TZOFFSETTO:+0100
TZNAME:CET
DTSTART:20101031T010000
END:STANDARD
END:VTIMEZONE
BEGIN:VEVENT
DTSTART;TZID=Europe/Andorra:20100220T190000
DTEND;TZID=Europe/Andorra:20100220T190000
DTSTAMP:20260420T154613
CREATED:20200729T164717Z
LAST-MODIFIED:20200729T182752Z
UID:8716-1266692400-1266692400@octubre.cat
SUMMARY:The Marzipan Man + José Domingo
DESCRIPTION:Dissabte 20 de febrer\, a les 19.00h: The Marzipan Man + José Domingo.   \n  \n  \n\nEn la imatge The Marzipan Man.   José Domingo és un crooner psiquedèlic. I de família li ve\, ja que es tracta del nebot del gran Pep Laguarda\, fill de Rafelbunyol\, creador al costat del seu grup Tapineria d’un dels discos més màgics de la transició\, enregistrat a Deià (Mallorca). Curiosament\, a hores d’ara\, aquest cantautor enregistra  el seu tercer disc d’estudi a Mallorca\, amb The Marzipan Man\, projecte del mallorquí Jordi Herrera\, cantant i guitarrista de Satellites\, que un bon dia\, en els boscos humits de Salisbury\, va conèixer l’home de massapà. El seu és un mon de contes que es tradueix en música intimista i acústica.
URL:https://octubre.cat/activitat/the-marzipan-man-jose-domingo/
LOCATION:No definit
CATEGORIES:Dialeg(tes)
ATTACH;FMTTYPE=image/jpeg:https://octubre.cat/www/wp-content/uploads/2020/07/activitat1060.jpg
END:VEVENT
END:VCALENDAR