BEGIN:VCALENDAR
VERSION:2.0
PRODID:-//Octubre Centre de Cultura Contemporània - ECPv5.1.6//NONSGML v1.0//EN
CALSCALE:GREGORIAN
METHOD:PUBLISH
X-WR-CALNAME:Octubre Centre de Cultura Contemporània
X-ORIGINAL-URL:https://octubre.cat
X-WR-CALDESC:Events for Octubre Centre de Cultura Contemporània
BEGIN:VTIMEZONE
TZID:Europe/Andorra
BEGIN:DAYLIGHT
TZOFFSETFROM:+0100
TZOFFSETTO:+0200
TZNAME:CEST
DTSTART:20210328T010000
END:DAYLIGHT
BEGIN:STANDARD
TZOFFSETFROM:+0200
TZOFFSETTO:+0100
TZNAME:CET
DTSTART:20211031T010000
END:STANDARD
END:VTIMEZONE
BEGIN:VEVENT
DTSTART;TZID=Europe/Andorra:20210310T180000
DTEND;TZID=Europe/Andorra:20210310T180000
DTSTAMP:20260422T235059
CREATED:20210113T122117Z
LAST-MODIFIED:20210307T153345Z
UID:15863-1615399200-1615399200@octubre.cat
SUMMARY:Cinema: The letter\, de Maia Lekow i Christopher King
DESCRIPTION:Cicle “Acció Documental +” organitzat per ACICOM i ACPV. DocsBarcelona / El documental del mes. \nDesprés de la projecció\, col·loqui amb\n—Richard Kobena (assoació Kobena & Co)\n—Loveth Chinase (Federació Unió Africana Espanya\, FUAE)\n—Tanana Traoré (Associació de Dones Africanes Unides de València\, AMAUV) \n—\nQuè faries si acusessin a la teva àvia de bruixeria? Els temps de la Santa Inquisició queden aparentment lluny\, però avui en dia\, a Kenya\, la realitat de les dones amb una sensibilitat especial és dramàtica i ens fa reviure el terror de l’Edat Mitjana. \nEl jove Karisa viatja de Mombasa als seus orígens rurals quan s’assabenta que la seva àvia està en perill. A través de les converses amb els seus familiars descobrim amb incredulitat que el seu oncle\, fruit d’una combinació de superstició i interessos econòmics\, és l’instigador de la terrible acusació. A la vegada\, les seves ties intenten protegir l’àvia que ha d’aprendre a conviure amb el fantasma de l’assassinat rondant la seva humil casa. A Kenya\, centenars d’ancians són acusats de bruixeria per tal de robar-los les terres. Un retrat valent que posa en evidència com els valors de les comunitats rurals han estat trastornats pel colonialisme i la religió. Una història d’amor intergeneracional\, en què el carisma d’en Karisa demostra com la resistència a l’avarícia és possible i on el cos fràgil de l’àvia amaga un poder femení indestructible. \n \nDirecció i producció: Maia Lekow i Christopher King (Kenya\, 2019)\nProducció Executiva: Judy Kibinge\, Peter Mudamba\, Cynthia Kane\nEditors: Acosta King\nGuió: Lekow King\, Ricardo Acosta\nV.O. en anglès i suahili\, subtitulada en català\nDurada: 81’ \nIDAF\, Països Baixos 2019\nMenció especial DocsBarcelona 2020
URL:https://octubre.cat/activitat/the-letter-de-maia-lekow-i-christopher-king/
LOCATION:Sala d’actes
CATEGORIES:Acció Documental +
ATTACH;FMTTYPE=image/jpeg:https://octubre.cat/www/wp-content/uploads/2021/01/The-Letter-02.jpg
END:VEVENT
END:VCALENDAR