BEGIN:VCALENDAR
VERSION:2.0
PRODID:-//Octubre Centre de Cultura Contemporània - ECPv5.1.6//NONSGML v1.0//EN
CALSCALE:GREGORIAN
METHOD:PUBLISH
X-WR-CALNAME:Octubre Centre de Cultura Contemporània
X-ORIGINAL-URL:https://octubre.cat
X-WR-CALDESC:Events for Octubre Centre de Cultura Contemporània
BEGIN:VTIMEZONE
TZID:Europe/Andorra
BEGIN:DAYLIGHT
TZOFFSETFROM:+0100
TZOFFSETTO:+0200
TZNAME:CEST
DTSTART:20180325T010000
END:DAYLIGHT
BEGIN:STANDARD
TZOFFSETFROM:+0200
TZOFFSETTO:+0100
TZNAME:CET
DTSTART:20181028T010000
END:STANDARD
END:VTIMEZONE
BEGIN:VEVENT
DTSTART;TZID=Europe/Andorra:20181018T190000
DTEND;TZID=Europe/Andorra:20181018T190000
DTSTAMP:20260423T153144
CREATED:20200729T173147Z
LAST-MODIFIED:20200729T190941Z
UID:11290-1539889200-1539889200@octubre.cat
SUMMARY:"The Bride of Frankenstein "\, de James Whale
DESCRIPTION:Dijous 18 d’octubre a les 19.00h. Presentació i xerrada a càrrec de Tomás Fernández Valentí. Activitat inclosa en el cicle de cinema i conferències “Els dijous de Frankenstein” de l’Espai Ciència.	 \n  \n  \n\n 	 Presentació i xerrada: Tomás Fernández Valentí\, crític de cinema (Dirigido por\, Imágines de Actualidad\, Quatermass). Presenta Joaquim Vallet.  En aquesta sessió es projectarà la primera versió conservada de la novel·la –un curtmetratge de 12 minuts: Frankenstein (J. Searle Dawley\, 1910)– i la peça més representativa de totes les seues adaptacions al llarg del classicisme.  The Bride of Frankenstein  Després de la fugida del monstre creat pel doctor Frankenstein\, el sinistre Dr. Praetorius proposa al científic la creació d’una companya per al monstre  Direcció James Whale (1935) Guió: John L. Balderston i William Hurlbut Repartiment: Boris Karloff\, Colin Clive\, Valerie Hobson\, Elsa Lanchester\, Ernest Thesiger\, Dwight Frye\, Walter Brennan  Productora: Universal Durada: 75’  — Activitat inclosa en el cicle de cinema i conferències “Els dijous de Frankenstein”\, un seguit d’activitats en homenatge a Mary Shelley i el doctor Frankenstein en el bicentenari de la criatura. Organitzat per l’Espai Ciència d’Acció Cultural del País Valencià amb la col·laboració de l’Institu8t d’Estudis Catalans\, Associació d’Escriptors en Llengua Catalana\, Unitat de Cultura Científica de la UV\, CSIC\, Llibreria Fan Set i Revista Mètode. Entrada lliure.
URL:https://octubre.cat/activitat/the-bride-of-frankenstein-de-james-whale/
LOCATION:Sala d’actes
CATEGORIES:Espai Ciència
ATTACH;FMTTYPE=image/jpeg:https://octubre.cat/www/wp-content/uploads/2020/07/activitat3128.jpg
END:VEVENT
END:VCALENDAR